{"text_format":"1","workbook":"xlsx","n_sheets":5,"sheets":["表紙","予備計算シート","入力ｼｰﾄ","金利計算ｼｰﾄ","プレゼンｼｰﾄ"],"not_rendered":{"charts":0,"images":2,"macros":1,"external_links":1,"defined_names":33,"comments":0,"pivot_tables":0},"unopened":[],"bounds":{"document_bytes":16777216,"sheet_cells":100000,"rows_first":2000,"rows_last":500,"rows_between":2000,"halvings":0,"cell_chars":16384,"cell_head_chars":4096},"cells_cut":0,"cells_raw":0,"read":"whole","date_system":"1900"}

{"sheet":"表紙","index":0,"n_rows":21,"n_cols":8,"rows_kept":21,"cut":false,"hidden":true,"merged":[[4,1,4,4]]}
[]
[]
[]
[]
[null,null,null,null,null,"御中"]
[]
[]
[]
[]
[]
[]
[]
[]
[null,null,null,null,null,null,null,"太陽光発電事業のご提案"]
[]
[]
[]
[]
[]
[]
[null,null,null,null,null,null,null,"　　　　年　　　月"]

{"sheet":"予備計算シート","index":1,"n_rows":123,"n_cols":16,"rows_kept":123,"cut":false,"hidden":true,"merged":[[2,15,3,15],[4,15,5,15],[6,15,7,15],[2,13,3,13],[4,13,5,13],[6,13,7,13],[2,14,3,14],[4,14,5,14],[6,14,7,14]]}
[null,"１．地域ごと日射量",null,null,null,null,null,null,"２．設置傾斜角・方位角［係数］",null,null,null,"３．環境保全換算［係数］"]
[null,null,null,null,null,"所在地（市区）","全天日射量",null,null,"傾斜/方位"]
[null,null,null,null,null,"－",0,null,null,"0°(平置き)",0.89300000000000002,null,null,"石油節減効果","L",0.2270145106514356]
[null,"北海道","札幌市","43°04'N","141°21'E","札幌市",1448,null,null,"10°/真南",0.94899999999999995]
[null,null,"稚内市","45°25'N","141°40'E","稚内市",1398,null,null,"10°/南西(東)15°",0.94699999999999995,null,null,"ＣＯ2削減効果","Kg-\nCO2",0.31451065143562829]
[null,null,"釧路市","42°59'N","144°23'E","釧路市",1450,null,null,"10°/南西(東)30°",0.94099999999999995]
[null,null,"函館市","41°46'N","140°44'E","函館市",1474,null,null,"10°/南西(東)45°",0.93,null,null,"森林面積換算","㎡",0.88057639163047774]
[null,"青森県","青森市","40°49'N","140°45'E","青森市",1428,null,null,"10°/南西(東)60°",0.91700000000000004]
[null,null,"八戸市","40°30'N","141°29'E","八戸市",1498,null,null,"10°/南西(東)75°",0.90100000000000002]
[null,null,"弘前市","40°36'N","140°28'E","弘前市",1496,null,null,"10°/真西(東)90°",0.88500000000000001]
[null,"秋田県","秋田市","39°43'N","140°06'E","秋田市",1392,null,null,"30°/真南",1]
[null,null,"大館市","40°16'N","140°34'E","大館市",1502,null,null,"30°/南西(東)15°",0.995]
[null,null,"横手市","39°18'N","140°34'E","横手市",1519,null,null,"30°/南西(東)30°",0.97899999999999998]
[null,"岩手県","盛岡市","39°42'N","141°09'E","盛岡市",1449,null,null,"30°/南西(東)45°",0.95199999999999996]
[null,null,"大船渡市","39°04'N","141°42'E","大船渡市",1523,null,null,"30°/南西(東)60°",0.92]
[null,null,"久慈市","40°11'N","141°46'E","久慈市",1503,null,null,"30°/南西(東)75°",0.88]
[null,"山形県","山形市","38°15'N","140°21'E","山形市",1438,null,null,"30°/真西(東)90°",0.83699999999999997]
[null,null,"米沢市","37°55'N","140°07'E","米沢市",1542]
[null,"宮城県","仙台市","38°16'N","140°52'E","仙台市",1432]
[null,null,"気仙沼市","38°54'N","141°34'E","気仙沼市",1537]
[null,"福島県","福島市","37°46'N","140°28'E","福島市",1428]
[null,null,"会津若松市","37°29'N","139°55'E","会津若松市",1550]
[null,null,"いわき市","37°02'N","140°53'E","いわき市",1557]
[null,null,null,null,null,"－",0]
[null,"栃木県","宇都宮市","36°33'N","139°53'E","宇都宮市",1489]
[null,null,"大田原市","36°52'N","140°01'E","大田原市",1559]
[null,"群馬県","前橋市","36°24'N","139°04'E","前橋市",1558]
[null,null,"富岡市","36°15'N","138°53'E","富岡市",1569]
[null,"茨城県","水戸市","36°22'N","140°28'E","水戸市",1524]
[null,null,"つくば市","36°01'N","140°04'E","つくば市",1572]
[null,null,"高萩市","36°42'N","140°42'E","高萩市",1562]
[null,"埼玉県","熊谷市","36°09'N","139°23'E","熊谷市",1495]
[null,null,"さいたま市","35°51'N","139°38'E","さいたま市",1575]
[null,null,"川越市","35°55'N","139°29'E","川越市",1574]
[null,"千葉県","千葉市","35°36'N","140°06'E","千葉市",1588]
[null,null,"柏市","35°51'N","139°58'E","柏市",1575]
[null,null,"銚子市","35°44'N","140°52'E","銚子市",1576]
[null,"東京都","千代田区","35°45'N","139°45'E","千代田区",1423]
[null,null,"杉並区","35°41'N","139°38'E","杉並区",1577]
[null,null,"調布市","35°38'N","139°32'E","調布市",1578]
[null,null,"八王子市","35°39'N","139°07'E","八王子市",1578]
[null,"神奈川県","横浜市","35°26'N","139°39'E","横浜市",1513]
[null,null,"横須賀市","35°16'N","139°40'E","横須賀市",1583]
[null,null,"小田原市","35°15'N","139°09'E","小田原市",1583]
[null,"山梨県","甲府市","35°40'N","138°34'E","甲府市",1655]
[null,null,"富士吉田市","35°29'N","138°48'E","富士吉田市",1580]
[null,"新潟県","新潟市","37°55'N","139°03'E","新潟市",1449]
[null,null,"上越市","37°08'N","138°14'E","上越市",1555]
[null,"長野県","長野市","36°39'N","138°12'E","長野市",1532]
[null,null,"松本市","36°14'N","137°58'E","松本市",1569]
[null,null,"飯田市","35°30'N","137°49'E","飯田市",1580]
[null,null,null,null,null,"－",0]
[null,"富山県","富山市","36°42'N","137°13'E","富山市",1419]
[null,null,"氷見市","36°51'N","136°59'E","氷見市",1560]
[null,"石川県","金沢市","36°34'N","136°39'E","金沢市",1432]
[null,null,"輪島市","37°23'N","136°54'E","輪島市",1551]
[null,"福井県","福井市","36°04'N","136°13'E","福井市",1441]
[null,null,"小浜市","35°29'N","135°44'E","小浜市",1580]
[null,"静岡県","静岡市","34°58'N","138°23'E","静岡市",1603]
[null,null,"浜松市","35°06'N","138°55'E","浜松市",1586]
[null,null,"三島市","34°42'N","137°43'E","三島市",1591]
[null,"愛知県","名古屋市","35°11'N","136°54'E","名古屋市",1580]
[null,null,"豊橋市","34°45'N","137°23'E","豊橋市",1590]
[null,null,"半田市","34°53'N","136°56'E","半田市",1586]
[null,"岐阜県","岐阜市","35°25'N","136°46'E","岐阜市",1527]
[null,null,"大垣市","35°21'N","136°36'E","大垣市",1582]
[null,null,"高山市","36°08'N","137°15'E","高山市",1570]
[null,"三重県","津市","34°43'N","136°30'E","津市",1521]
[null,null,"四日市市","34°57'N","136°37'E","四日市市",1588]
[null,null,null,null,null,"－",0]
[null,"滋賀県","彦根市","35°16'N","136°15'E","彦根市",1472]
[null,null,"長浜市","35°22'N","136°16'E","長浜市",1582]
[null,"京都府","京都市","35°00'N","135°46'E","京都市",1497]
[null,null,"舞鶴市","35°29'N","135°23'E","舞鶴市",1580]
[null,"奈良県","奈良市","34°41'N","135°48'E","奈良市",1469]
[null,null,"五條市","34°20'N","135°41'E","五条市",1596]
[null,"大阪府","大阪市","34°41'N","135°31'E","大阪市",1523]
[null,null,"茨木市","34°48'N","135°34'E","茨木市",1590]
[null,null,"堺市","34°35'N","135°29'E","堺市",1593]
[null,"和歌山県","和歌山市","34°14'N","135°10'E","和歌山市",1517]
[null,null,"新宮市","33°43'N","135°59'E","新宮市",1604]
[null,"兵庫県","神戸市","34°41'N","135°12'E","神戸市",1553]
[null,null,"姫路市","34°49'N","134°41'E","姫路市",1590]
[null,null,"篠山市","35°04'N","135°13'E","篠山市",1586]
[null,null,null,null,null,"－",0]
[null,"岡山県","岡山市","34°39'N","133°55'E","岡山市",1592]
[null,null,"津山市","35°04'N","134°00'E","津山市",1586]
[null,"広島県","広島市","34°23'N","132°27'E","広島市",1577]
[null,null,"三次市","34°48'N","132°51'E","三次市",1590]
[null,"山口県","山口市","34°11'N","131°28'E","山口市",1613]
[null,null,"岩国市","34°10'N","132°13'E","岩国市",1598]
[null,null,"下関市","33°57'N","130°56'E","下関市",1601]
[null,"鳥取県","鳥取市","35°29'N","134°14'E","鳥取市",1553]
[null,null,"米子市","35°25'N","133°21'E","米子市",1581]
[null,"島根県","松江市","35°28'N","133°03'E","松江市",1588]
[null,null,"益田市","34°40'N","131°50'E","益田市",1592]
[null,"徳島県","徳島市","34°04'N","134°33'E","徳島市",1610]
[null,null,"阿南市","33°55'N","134°39'E","阿南市",1602]
[null,"香川県","高松市","34°21'N","134°03'E","高松市",1588]
[null,null,"丸亀市","34°17'N","133°47'E","丸亀市",1597]
[null,"愛媛県","松山市","33°50'N","132°46'E","松山市",1603]
[null,null,"新居浜市","33°57'N","133°16'E","新居浜市",1601]
[null,"高知県","高知市","33°34'N","133°32'E","高知市",1633]
[null,null,"土佐清水市","32°46'N","132°57'E","土佐清水市",1616]
[null,null,null,null,null,"－",0]
[null,"福岡県","福岡市","33°35'N","130°24'E","福岡市",1606]
[null,null,"北九州市","33°53'N","130°52'E","北九州市",1602]
[null,null,"飯塚市","33°38'N","130°41'E","飯塚市",1606]
[null,"佐賀県","佐賀市","33°16'N","130°18'E","佐賀市",1610]
[null,null,"唐津市","33°26'N","129°58'E","唐津市",1608]
[null,"長崎県","長崎市","32°45'N","129°53'E","長崎市",1617]
[null,null,"佐世保市","33°10'N","129°42'E","佐世保市",1611]
[null,"大分県","大分市","33°14'N","131°37'E","大分市",1611]
[null,null,"竹田市","32°58'N","131°24'E","竹田市",1614]
[null,"熊本県","熊本市","32°48'N","130°42'E","熊本市",1616]
[null,null,"人吉市","32°12'N","130°45'E","人吉市",1623]
[null,"宮崎県","宮崎市","31°54'N","131°25'E","宮崎市",1635]
[null,null,"延岡市","32°35'N","131°40'E","延岡市",1619]
[null,"鹿児島県","鹿児島市","31°36'N","130°33'E","鹿児島市",1604]
[null,null,"指宿市","31°14'N","130°18'E","指宿市",1634]
[null,null,"名瀬市","28°22'N","129°29'E","名瀬市",1663]
[null,"沖縄県","那覇市","26°13'N","127°41'E","那覇市",1680]
[null,null,"石垣市","24°20'N","124°69'E","石垣市",1691]

{"sheet":"入力ｼｰﾄ","index":2,"n_rows":57,"n_cols":10,"rows_kept":57,"cut":false,"hidden":false,"merged":[[32,1,32,2],[33,1,33,2],[46,3,46,4],[46,1,48,1],[46,2,47,2],[27,1,27,2],[28,1,28,2],[29,1,29,2],[30,1,30,2],[31,1,31,2],[20,1,20,2],[21,1,21,2],[22,1,22,2],[23,1,23,2],[26,1,26,2],[7,1,7,2],[8,1,8,2],[9,1,9,2],[13,1,13,2],[14,1,14,2],[2,1,2,2],[3,1,3,2],[4,1,4,2],[5,1,5,2],[6,1,6,2]]}
[]
["［入力シート］","＜発電規模＞"]
[null,"モジュール最大出力",null,250,"w","←","モジュールの最大出力を入力して下さい。"]
["顧客名","設置枚数",null,100,"枚","←","設置するモジュールの枚数を入力して下さい。"]
["おなまえ","システム容量",null,{"$f":"D3*D4/1000","v":25},"kWh"]
[null,"年間１Kwの発電係数",null,1250,"kWh／年",null,"発電係数は、メーカー実績に基いて算出した数値です。入力する必要はありません。"]
[null,"想定年間発電量",null,{"$f":"D6*D5","v":31250},"kWh／年"]
[null,"現買電単価",null,0,"円／kWh"]
[null,"売電単価（税抜）",null,32,"円／kWh","←","売電単価を入力して下さい。"]
[null,"上記単価での売電期間",null,20,"年間"]
[]
[null,"＜設備投資＞"]
[null,"システム価格　1kwh=",373000,{"$f":"C13*D5","v":9325000},"円(税抜)","←","システム価格を入力して下さい"]
[null,"投資額",null,{"$f":"D13*(1+D26)","v":10071000},"円(税込)"]
[null,"リース",null,"なし"]
[null,null,"料率",1,"％"]
[null,null,"リース期間",15,"年"]
[null,null,"月額リース料",{"$f":"D13*D16/100","v":93250},"年"]
[null,null,"リース総額",{"$f":"D18*12*D17","v":16785000},"円"]
[null,"＜その他諸条件＞"]
[null,"性能低下率",null,99.75,"％／年間"]
[null,"固定資産税率（償却資産）",null,1.4,"％"]
[null,"耐用年数",null,17,"年",null,null,null,null,"印刷ボタンを有効にするには、上部のセキュリティー警告のマクロを\n有効にする必要があります。"]
[null,"減価残存率　前年中取得",null,{"$f":"VLOOKUP(D23,B50:E57,3,FALSE)","v":0.93600000000000005},null,null,null,null,null,"印刷ボタンが使えない場合はシートを「プレゼンシート」に切替えて印刷して下さい。"]
[null,"減価残存率　前年前取得",null,{"$f":"VLOOKUP(D23,B50:E57,4,FALSE)","v":0.873}]
[null,"消費税率",null,0.08,"％","←","消費税率を入力して下さい。"]
[null,"特別償却適用",null,"あり",30]
[null,"償却方法",null,"定率法"]
[null,"償却期間",null,17,"年"]
[null,"償却率",null,{"$f":"IF(D28=\"定率法\",VLOOKUP(D29,B38:D45,3,FALSE),VLOOKUP(D29,B38:D45,2,FALSE))","v":0.14699999999999999}]
[null,"動産保険料率",null,0,"％／年間"]
[null,"事業税",null,0,"％／年間",null,"株式会社 ジャパンゲート"]
[null,"メンテナンス費",null,0.2,"％／年間",null,"〒822-0022 福岡県直方市知古771-9"]
[null,"法人税率",null,0,"％",null,"TEL 0949-28-8545 / FAX 0949-28-8546"]
[]
[null,"減価償却"]
[null,"償却期間","定額法・リース","定率法","保証率"]
[null,10,0.1,0.25,4.4479999999999999E-2]
[null,11,9.0999999999999998E-2,0.22700000000000001,4.1230000000000003E-2]
[null,12,8.4000000000000005E-2,0.20799999999999999,3.8699999999999998E-2]
[null,13,7.6999999999999999E-2,0.192,3.6330000000000001E-2]
[null,14,7.1999999999999995E-2,0.17899999999999999,3.3890000000000003E-2]
[null,15,6.7000000000000004E-2,0.16700000000000001,3.2169999999999997E-2]
[null,16,6.3E-2,0.156,3.0630000000000001E-2]
[null,17,5.8999999999999997E-2,0.14699999999999999,2.9049999999999999E-2]
[null,"償却資産税　減価残存率表"]
[null,"耐用年数","減価率","減価残存率"]
[null,null,null,"前年中取得","前年前取得"]
[null,null,"ｒ","１－ｒ／２","１－ｒ"]
[null,10,0.20599999999999999,0.89700000000000002,0.79400000000000004]
[null,11,0.189,0.90500000000000003,0.81100000000000005]
[null,12,0.17499999999999999,0.91200000000000003,0.82499999999999996]
[null,13,0.16200000000000001,0.91900000000000004,0.83799999999999997]
[null,14,0.152,0.92400000000000004,0.84799999999999998]
[null,15,0.14199999999999999,0.92900000000000005,0.85799999999999998]
[null,16,0.13400000000000001,0.93300000000000005,0.86599999999999999]
[null,17,0.127,0.93600000000000005,0.873]

{"sheet":"金利計算ｼｰﾄ","index":3,"n_rows":26,"n_cols":241,"rows_kept":26,"cut":false,"hidden":true,"merged":[]}
["【金利計算】"]
[]
["利率",{"$f":"入力ｼｰﾄ!#REF!/100","v":{"$error":"#REF!"}},{"$f":"入力ｼｰﾄ!#REF!/100","v":{"$error":"#REF!"}},{"$f":"入力ｼｰﾄ!#REF!/100","v":{"$error":"#REF!"}},{"$f":"入力ｼｰﾄ!#REF!/100","v":{"$error":"#REF!"}},{"$f":"入力ｼｰﾄ!#REF!/100","v":{"$error":"#REF!"}},{"$f":"入力ｼｰﾄ!#REF!/100","v":{"$error":"#REF!"}},{"$f":"入力ｼｰﾄ!#REF!/100","v":{"$error":"#REF!"}},{"$f":"入力ｼｰﾄ!#REF!/100","v":{"$error":"#REF!"}},{"$f":"入力ｼｰﾄ!#REF!/100","v":{"$error":"#REF!"}},{"$f":"入力ｼｰﾄ!#REF!/100","v":{"$error":"#REF!"}},{"$f":"入力ｼｰﾄ!#REF!/100","v":{"$error":"#REF!"}},{"$f":"入力ｼｰﾄ!#REF!/100","v":{"$error":"#REF!"}},{"$f":"入力ｼｰﾄ!#REF!/100","v":{"$error":"#REF!"}},{"$f":"入力ｼｰﾄ!#REF!/100","v":{"$error":"#REF!"}},{"$f":"入力ｼｰﾄ!#REF!/100","v":{"$error":"#REF!"}},{"$f":"入力ｼｰﾄ!#REF!/100","v":{"$error":"#REF!"}},{"$f":"入力ｼｰﾄ!#REF!/100","v":{"$error":"#REF!"}},{"$f":"入力ｼｰﾄ!#REF!/100","v":{"$error":"#REF!"}},{"$f":"入力ｼｰﾄ!#REF!/100","v":{"$error":"#REF!"}},{"$f":"入力ｼｰﾄ!#REF!/100","v":{"$error":"#REF!"}},{"$f":"入力ｼｰﾄ!#REF!/100","v":{"$error":"#REF!"}},{"$f":"入力ｼｰﾄ!#REF!/100","v":{"$error":"#REF!"}},{"$f":"入力ｼｰﾄ!#REF!/100","v":{"$error":"#REF!"}},{"$f":"入力ｼｰﾄ!#REF!/100","v":{"$error":"#REF!"}},{"$f":"入力ｼｰﾄ!#REF!/100","v":{"$error":"#REF!"}},{"$f":"入力ｼｰﾄ!#REF!/100","v":{"$error":"#REF!"}},{"$f":"入力ｼｰﾄ!#REF!/100","v":{"$error":"#REF!"}},{"$f":"入力ｼｰﾄ!#REF!/100","v":{"$error":"#REF!"}},{"$f":"入力ｼｰﾄ!#REF!/100","v":{"$error":"#REF!"}},{"$f":"入力ｼｰﾄ!#REF!/100","v":{"$error":"#REF!"}},{"$f":"入力ｼｰﾄ!#REF!/100","v":{"$error":"#REF!"}},{"$f":"入力ｼｰﾄ!#REF!/100","v":{"$error":"#REF!"}},{"$f":"入力ｼｰﾄ!#REF!/100","v":{"$error":"#REF!"}},{"$f":"入力ｼｰﾄ!#REF!/100","v":{"$error":"#REF!"}},{"$f":"入力ｼｰﾄ!#REF!/100","v":{"$error":"#REF!"}},{"$f":"入力ｼｰﾄ!#REF!/100","v":{"$error":"#REF!"}},{"$f":"入力ｼｰﾄ!#REF!/100","v":{"$error":"#REF!"}},{"$f":"入力ｼｰﾄ!#REF!/100","v":{"$error":"#REF!"}},{"$f":"入力ｼｰﾄ!#REF!/100","v":{"$error":"#REF!"}},{"$f":"入力ｼｰﾄ!#REF!/100","v":{"$error":"#REF!"}},{"$f":"入力ｼｰﾄ!#REF!/100","v":{"$error":"#REF!"}},{"$f":"入力ｼｰﾄ!#REF!/100","v":{"$error":"#REF!"}},{"$f":"入力ｼｰﾄ!#REF!/100","v":{"$error":"#REF!"}},{"$f":"入力ｼｰﾄ!#REF!/100","v":{"$error":"#REF!"}},{"$f":"入力ｼｰﾄ!#REF!/100","v":{"$error":"#REF!"}},{"$f":"入力ｼｰﾄ!#REF!/100","v":{"$error":"#REF!"}},{"$f":"入力ｼｰﾄ!#REF!/100","v":{"$error":"#REF!"}},{"$f":"入力ｼｰﾄ!#REF!/100","v":{"$error":"#REF!"}},{"$f":"入力ｼｰﾄ!#REF!/100","v":{"$error":"#REF!"}},{"$f":"入力ｼｰﾄ!#REF!/100","v":{"$error":"#REF!"}},{"$f":"入力ｼｰﾄ!#REF!/100","v":{"$error":"#REF!"}},{"$f":"入力ｼｰﾄ!#REF!/100","v":{"$error":"#REF!"}},{"$f":"入力ｼｰﾄ!#REF!/100","v":{"$error":"#REF!"}},{"$f":"入力ｼｰﾄ!#REF!/100","v":{"$error":"#REF!"}},{"$f":"入力ｼｰﾄ!#REF!/100","v":{"$error":"#REF!"}},{"$f":"入力ｼｰﾄ!#REF!/100","v":{"$error":"#REF!"}},{"$f":"入力ｼｰﾄ!#REF!/100","v":{"$error":"#REF!"}},{"$f":"入力ｼｰﾄ!#REF!/100","v":{"$error":"#REF!"}},{"$f":"入力ｼｰﾄ!#REF!/100","v":{"$error":"#REF!"}},{"$f":"入力ｼｰﾄ!#REF!/100","v":{"$error":"#REF!"}},{"$f":"入力ｼｰﾄ!#REF!/100","v":{"$error":"#REF!"}},{"$f":"入力ｼｰﾄ!#REF!/100","v":{"$error":"#REF!"}},{"$f":"入力ｼｰﾄ!#REF!/100","v":{"$error":"#REF!"}},{"$f":"入力ｼｰﾄ!#REF!/100","v":{"$error":"#REF!"}},{"$f":"入力ｼｰﾄ!#REF!/100","v":{"$error":"#REF!"}},{"$f":"入力ｼｰﾄ!#REF!/100","v":{"$error":"#REF!"}},{"$f":"入力ｼｰﾄ!#REF!/100","v":{"$error":"#REF!"}},{"$f":"入力ｼｰﾄ!#REF!/100","v":{"$error":"#REF!"}},{"$f":"入力ｼｰﾄ!#REF!/100","v":{"$error":"#REF!"}},{"$f":"入力ｼｰﾄ!#REF!/100","v":{"$error":"#REF!"}},{"$f":"入力ｼｰﾄ!#REF!/100","v":{"$error":"#REF!"}},{"$f":"入力ｼｰﾄ!#REF!/100","v":{"$error":"#REF!"}},{"$f":"入力ｼｰﾄ!#REF!/100","v":{"$error":"#REF!"}},{"$f":"入力ｼｰﾄ!#REF!/100","v":{"$error":"#REF!"}},{"$f":"入力ｼｰﾄ!#REF!/100","v":{"$error":"#REF!"}},{"$f":"入力ｼｰﾄ!#REF!/100","v":{"$error":"#REF!"}},{"$f":"入力ｼｰﾄ!#REF!/100","v":{"$error":"#REF!"}},{"$f":"入力ｼｰﾄ!#REF!/100","v":{"$error":"#REF!"}},{"$f":"入力ｼｰﾄ!#REF!/100","v":{"$error":"#REF!"}},{"$f":"入力ｼｰﾄ!#REF!/100","v":{"$error":"#REF!"}},{"$f":"入力ｼｰﾄ!#REF!/100","v":{"$error":"#REF!"}},{"$f":"入力ｼｰﾄ!#REF!/100","v":{"$error":"#REF!"}},{"$f":"入力ｼｰﾄ!#REF!/100","v":{"$error":"#REF!"}},{"$f":"入力ｼｰﾄ!#REF!/100","v":{"$error":"#REF!"}},{"$f":"入力ｼｰﾄ!#REF!/100","v":{"$error":"#REF!"}},{"$f":"入力ｼｰﾄ!#REF!/100","v":{"$error":"#REF!"}},{"$f":"入力ｼｰﾄ!#REF!/100","v":{"$error":"#REF!"}},{"$f":"入力ｼｰﾄ!#REF!/100","v":{"$error":"#REF!"}},{"$f":"入力ｼｰﾄ!#REF!/100","v":{"$error":"#REF!"}},{"$f":"入力ｼｰﾄ!#REF!/100","v":{"$error":"#REF!"}},{"$f":"入力ｼｰﾄ!#REF!/100","v":{"$error":"#REF!"}},{"$f":"入力ｼｰﾄ!#REF!/100","v":{"$error":"#REF!"}},{"$f":"入力ｼｰﾄ!#REF!/100","v":{"$error":"#REF!"}},{"$f":"入力ｼｰﾄ!#REF!/100","v":{"$error":"#REF!"}},{"$f":"入力ｼｰﾄ!#REF!/100","v":{"$error":"#REF!"}},{"$f":"入力ｼｰﾄ!#REF!/100","v":{"$error":"#REF!"}},{"$f":"入力ｼｰﾄ!#REF!/100","v":{"$error":"#REF!"}},{"$f":"入力ｼｰﾄ!#REF!/100","v":{"$error":"#REF!"}},{"$f":"入力ｼｰﾄ!#REF!/100","v":{"$error":"#REF!"}},{"$f":"入力ｼｰﾄ!#REF!/100","v":{"$error":"#REF!"}},{"$f":"入力ｼｰﾄ!#REF!/100","v":{"$error":"#REF!"}},{"$f":"入力ｼｰﾄ!#REF!/100","v":{"$error":"#REF!"}},{"$f":"入力ｼｰﾄ!#REF!/100","v":{"$error":"#REF!"}},{"$f":"入力ｼｰﾄ!#REF!/100","v":{"$error":"#REF!"}},{"$f":"入力ｼｰﾄ!#REF!/100","v":{"$error":"#REF!"}},{"$f":"入力ｼｰﾄ!#REF!/100","v":{"$error":"#REF!"}},{"$f":"入力ｼｰﾄ!#REF!/100","v":{"$error":"#REF!"}},{"$f":"入力ｼｰﾄ!#REF!/100","v":{"$error":"#REF!"}},{"$f":"入力ｼｰﾄ!#REF!/100","v":{"$error":"#REF!"}},{"$f":"入力ｼｰﾄ!#REF!/100","v":{"$error":"#REF!"}},{"$f":"入力ｼｰﾄ!#REF!/100","v":{"$error":"#REF!"}},{"$f":"入力ｼｰﾄ!#REF!/100","v":{"$error":"#REF!"}},{"$f":"入力ｼｰﾄ!#REF!/100","v":{"$error":"#REF!"}},{"$f":"入力ｼｰﾄ!#REF!/100","v":{"$error":"#REF!"}},{"$f":"入力ｼｰﾄ!#REF!/100","v":{"$error":"#REF!"}},{"$f":"入力ｼｰﾄ!#REF!/100","v":{"$error":"#REF!"}},{"$f":"入力ｼｰﾄ!#REF!/100","v":{"$error":"#REF!"}},{"$f":"入力ｼｰﾄ!#REF!/100","v":{"$error":"#REF!"}},{"$f":"入力ｼｰﾄ!#REF!/100","v":{"$error":"#REF!"}},{"$f":"入力ｼｰﾄ!#REF!/100","v":{"$error":"#REF!"}},{"$f":"入力ｼｰﾄ!#REF!/100","v":{"$error":"#REF!"}},{"$f":"入力ｼｰﾄ!#REF!/100","v":{"$error":"#REF!"}},{"$f":"入力ｼｰﾄ!#REF!/100","v":{"$error":"#REF!"}},{"$f":"入力ｼｰﾄ!#REF!/100","v":{"$error":"#REF!"}},{"$f":"入力ｼｰﾄ!#REF!/100","v":{"$error":"#REF!"}},{"$f":"入力ｼｰﾄ!#REF!/100","v":{"$error":"#REF!"}},{"$f":"入力ｼｰﾄ!#REF!/100","v":{"$error":"#REF!"}},{"$f":"入力ｼｰﾄ!#REF!/100","v":{"$error":"#REF!"}},{"$f":"入力ｼｰﾄ!#REF!/100","v":{"$error":"#REF!"}},{"$f":"入力ｼｰﾄ!#REF!/100","v":{"$error":"#REF!"}},{"$f":"入力ｼｰﾄ!#REF!/100","v":{"$error":"#REF!"}},{"$f":"入力ｼｰﾄ!#REF!/100","v":{"$error":"#REF!"}},{"$f":"入力ｼｰﾄ!#REF!/100","v":{"$error":"#REF!"}},{"$f":"入力ｼｰﾄ!#REF!/100","v":{"$error":"#REF!"}},{"$f":"入力ｼｰﾄ!#REF!/100","v":{"$error":"#REF!"}},{"$f":"入力ｼｰﾄ!#REF!/100","v":{"$error":"#REF!"}},{"$f":"入力ｼｰﾄ!#REF!/100","v":{"$error":"#REF!"}},{"$f":"入力ｼｰﾄ!#REF!/100","v":{"$error":"#REF!"}},{"$f":"入力ｼｰﾄ!#REF!/100","v":{"$error":"#REF!"}},{"$f":"入力ｼｰﾄ!#REF!/100","v":{"$error":"#REF!"}},{"$f":"入力ｼｰﾄ!#REF!/100","v":{"$error":"#REF!"}},{"$f":"入力ｼｰﾄ!#REF!/100","v":{"$error":"#REF!"}},{"$f":"入力ｼｰﾄ!#REF!/100","v":{"$error":"#REF!"}},{"$f":"入力ｼｰﾄ!#REF!/100","v":{"$error":"#REF!"}},{"$f":"入力ｼｰﾄ!#REF!/100","v":{"$error":"#REF!"}},{"$f":"入力ｼｰﾄ!#REF!/100","v":{"$error":"#REF!"}},{"$f":"入力ｼｰﾄ!#REF!/100","v":{"$error":"#REF!"}},{"$f":"入力ｼｰﾄ!#REF!/100","v":{"$error":"#REF!"}},{"$f":"入力ｼｰﾄ!#REF!/100","v":{"$error":"#REF!"}},{"$f":"入力ｼｰﾄ!#REF!/100","v":{"$error":"#REF!"}},{"$f":"入力ｼｰﾄ!#REF!/100","v":{"$error":"#REF!"}},{"$f":"入力ｼｰﾄ!#REF!/100","v":{"$error":"#REF!"}},{"$f":"入力ｼｰﾄ!#REF!/100","v":{"$error":"#REF!"}},{"$f":"入力ｼｰﾄ!#REF!/100","v":{"$error":"#REF!"}},{"$f":"入力ｼｰﾄ!#REF!/100","v":{"$error":"#REF!"}},{"$f":"入力ｼｰﾄ!#REF!/100","v":{"$error":"#REF!"}},{"$f":"入力ｼｰﾄ!#REF!/100","v":{"$error":"#REF!"}},{"$f":"入力ｼｰﾄ!#REF!/100","v":{"$error":"#REF!"}},{"$f":"入力ｼｰﾄ!#REF!/100","v":{"$error":"#REF!"}},{"$f":"入力ｼｰﾄ!#REF!/100","v":{"$error":"#REF!"}},{"$f":"入力ｼｰﾄ!#REF!/100","v":{"$error":"#REF!"}},{"$f":"入力ｼｰﾄ!#REF!/100","v":{"$error":"#REF!"}},{"$f":"入力ｼｰﾄ!#REF!/100","v":{"$error":"#REF!"}},{"$f":"入力ｼｰﾄ!#REF!/100","v":{"$error":"#REF!"}},{"$f":"入力ｼｰﾄ!#REF!/100","v":{"$error":"#REF!"}},{"$f":"入力ｼｰﾄ!#REF!/100","v":{"$error":"#REF!"}},{"$f":"入力ｼｰﾄ!#REF!/100","v":{"$error":"#REF!"}},{"$f":"入力ｼｰﾄ!#REF!/100","v":{"$error":"#REF!"}},{"$f":"入力ｼｰﾄ!#REF!/100","v":{"$error":"#REF!"}},{"$f":"入力ｼｰﾄ!#REF!/100","v":{"$error":"#REF!"}},{"$f":"入力ｼｰﾄ!#REF!/100","v":{"$error":"#REF!"}},{"$f":"入力ｼｰﾄ!#REF!/100","v":{"$error":"#REF!"}},{"$f":"入力ｼｰﾄ!#REF!/100","v":{"$error":"#REF!"}},{"$f":"入力ｼｰﾄ!#REF!/100","v":{"$error":"#REF!"}},{"$f":"入力ｼｰﾄ!#REF!/100","v":{"$error":"#REF!"}},{"$f":"入力ｼｰﾄ!#REF!/100","v":{"$error":"#REF!"}},{"$f":"入力ｼｰﾄ!#REF!/100","v":{"$error":"#REF!"}},{"$f":"入力ｼｰﾄ!#REF!/100","v":{"$error":"#REF!"}},{"$f":"入力ｼｰﾄ!#REF!/100","v":{"$error":"#REF!"}},{"$f":"入力ｼｰﾄ!#REF!/100","v":{"$error":"#REF!"}},{"$f":"入力ｼｰﾄ!#REF!/100","v":{"$error":"#REF!"}},{"$f":"入力ｼｰﾄ!#REF!/100","v":{"$error":"#REF!"}},{"$f":"入力ｼｰﾄ!#REF!/100","v":{"$error":"#REF!"}},{"$f":"入力ｼｰﾄ!#REF!/100","v":{"$error":"#REF!"}},{"$f":"入力ｼｰﾄ!#REF!/100","v":{"$error":"#REF!"}},{"$f":"入力ｼｰﾄ!#REF!/100","v":{"$error":"#REF!"}},{"$f":"入力ｼｰﾄ!#REF!/100","v":{"$error":"#REF!"}},{"$f":"入力ｼｰﾄ!#REF!/100","v":{"$error":"#REF!"}},{"$f":"入力ｼｰﾄ!#REF!/100","v":{"$error":"#REF!"}},{"$f":"入力ｼｰﾄ!#REF!/100","v":{"$error":"#REF!"}},{"$f":"入力ｼｰﾄ!#REF!/100","v":{"$error":"#REF!"}},{"$f":"入力ｼｰﾄ!#REF!/100","v":{"$error":"#REF!"}},{"$f":"入力ｼｰﾄ!#REF!/100","v":{"$error":"#REF!"}},{"$f":"入力ｼｰﾄ!#REF!/100","v":{"$error":"#REF!"}},{"$f":"入力ｼｰﾄ!#REF!/100","v":{"$error":"#REF!"}},{"$f":"入力ｼｰﾄ!#REF!/100","v":{"$error":"#REF!"}},{"$f":"入力ｼｰﾄ!#REF!/100","v":{"$error":"#REF!"}},{"$f":"入力ｼｰﾄ!#REF!/100","v":{"$error":"#REF!"}},{"$f":"入力ｼｰﾄ!#REF!/100","v":{"$error":"#REF!"}},{"$f":"入力ｼｰﾄ!#REF!/100","v":{"$error":"#REF!"}},{"$f":"入力ｼｰﾄ!#REF!/100","v":{"$error":"#REF!"}},{"$f":"入力ｼｰﾄ!#REF!/100","v":{"$error":"#REF!"}},{"$f":"入力ｼｰﾄ!#REF!/100","v":{"$error":"#REF!"}},{"$f":"入力ｼｰﾄ!#REF!/100","v":{"$error":"#REF!"}},{"$f":"入力ｼｰﾄ!#REF!/100","v":{"$error":"#REF!"}},{"$f":"入力ｼｰﾄ!#REF!/100","v":{"$error":"#REF!"}},{"$f":"入力ｼｰﾄ!#REF!/100","v":{"$error":"#REF!"}},{"$f":"入力ｼｰﾄ!#REF!/100","v":{"$error":"#REF!"}},{"$f":"入力ｼｰﾄ!#REF!/100","v":{"$error":"#REF!"}},{"$f":"入力ｼｰﾄ!#REF!/100","v":{"$error":"#REF!"}},{"$f":"入力ｼｰﾄ!#REF!/100","v":{"$error":"#REF!"}},{"$f":"入力ｼｰﾄ!#REF!/100","v":{"$error":"#REF!"}},{"$f":"入力ｼｰﾄ!#REF!/100","v":{"$error":"#REF!"}},{"$f":"入力ｼｰﾄ!#REF!/100","v":{"$error":"#REF!"}},{"$f":"入力ｼｰﾄ!#REF!/100","v":{"$error":"#REF!"}},{"$f":"入力ｼｰﾄ!#REF!/100","v":{"$error":"#REF!"}},{"$f":"入力ｼｰﾄ!#REF!/100","v":{"$error":"#REF!"}},{"$f":"入力ｼｰﾄ!#REF!/100","v":{"$error":"#REF!"}},{"$f":"入力ｼｰﾄ!#REF!/100","v":{"$error":"#REF!"}},{"$f":"入力ｼｰﾄ!#REF!/100","v":{"$error":"#REF!"}},{"$f":"入力ｼｰﾄ!#REF!/100","v":{"$error":"#REF!"}},{"$f":"入力ｼｰﾄ!#REF!/100","v":{"$error":"#REF!"}},{"$f":"入力ｼｰﾄ!#REF!/100","v":{"$error":"#REF!"}},{"$f":"入力ｼｰﾄ!#REF!/100","v":{"$error":"#REF!"}},{"$f":"入力ｼｰﾄ!#REF!/100","v":{"$error":"#REF!"}},{"$f":"入力ｼｰﾄ!#REF!/100","v":{"$error":"#REF!"}},{"$f":"入力ｼｰﾄ!#REF!/100","v":{"$error":"#REF!"}},{"$f":"入力ｼｰﾄ!#REF!/100","v":{"$error":"#REF!"}},{"$f":"入力ｼｰﾄ!#REF!/100","v":{"$error":"#REF!"}},{"$f":"入力ｼｰﾄ!#REF!/100","v":{"$error":"#REF!"}},{"$f":"入力ｼｰﾄ!#REF!/100","v":{"$error":"#REF!"}},{"$f":"入力ｼｰﾄ!#REF!/100","v":{"$error":"#REF!"}},{"$f":"入力ｼｰﾄ!#REF!/100","v":{"$error":"#REF!"}},{"$f":"入力ｼｰﾄ!#REF!/100","v":{"$error":"#REF!"}},{"$f":"入力ｼｰﾄ!#REF!/100","v":{"$error":"#REF!"}},{"$f":"入力ｼｰﾄ!#REF!/100","v":{"$error":"#REF!"}},{"$f":"入力ｼｰﾄ!#REF!/100","v":{"$error":"#REF!"}},{"$f":"入力ｼｰﾄ!#REF!/100","v":{"$error":"#REF!"}},{"$f":"入力ｼｰﾄ!#REF!/100","v":{"$error":"#REF!"}},{"$f":"入力ｼｰﾄ!#REF!/100","v":{"$error":"#REF!"}}]
["回数",1,2,3,4,5,6,7,8,9,10,11,12,13,14,15,16,17,18,19,20,21,22,23,24,25,26,27,28,29,30,31,32,33,34,35,36,37,38,39,40,41,42,43,44,45,46,47,48,49,50,51,52,53,54,55,56,57,58,59,60,61,62,63,64,65,66,67,68,69,70,71,72,73,74,75,76,77,78,79,80,81,82,83,84,85,86,87,88,89,90,91,92,93,94,95,96,97,98,99,100,101,102,103,104,105,106,107,108,109,110,111,112,113,114,115,116,117,118,119,120,121,122,123,124,125,126,127,128,129,130,131,132,133,134,135,136,137,138,139,140,141,142,143,144,145,146,147,148,149,150,151,152,153,154,155,156,157,158,159,160,161,162,163,164,165,166,167,168,169,170,171,172,173,174,175,176,177,178,179,180,181,182,183,184,185,186,187,188,189,190,191,192,193,194,195,196,197,198,199,200,201,202,203,204,205,206,207,208,209,210,211,212,213,214,215,216,217,218,219,220,221,222,223,224,225,226,227,228,229,230,231,232,233,234,235,236,237,238,239,240]
["期間",{"$f":"入力ｼｰﾄ!#REF!","v":{"$error":"#REF!"}},{"$f":"入力ｼｰﾄ!#REF!","v":{"$error":"#REF!"}},{"$f":"入力ｼｰﾄ!#REF!","v":{"$error":"#REF!"}},{"$f":"入力ｼｰﾄ!#REF!","v":{"$error":"#REF!"}},{"$f":"入力ｼｰﾄ!#REF!","v":{"$error":"#REF!"}},{"$f":"入力ｼｰﾄ!#REF!","v":{"$error":"#REF!"}},{"$f":"入力ｼｰﾄ!#REF!","v":{"$error":"#REF!"}},{"$f":"入力ｼｰﾄ!#REF!","v":{"$error":"#REF!"}},{"$f":"入力ｼｰﾄ!#REF!","v":{"$error":"#REF!"}},{"$f":"入力ｼｰﾄ!#REF!","v":{"$error":"#REF!"}},{"$f":"入力ｼｰﾄ!#REF!","v":{"$error":"#REF!"}},{"$f":"入力ｼｰﾄ!#REF!","v":{"$error":"#REF!"}},{"$f":"入力ｼｰﾄ!#REF!","v":{"$error":"#REF!"}},{"$f":"入力ｼｰﾄ!#REF!","v":{"$error":"#REF!"}},{"$f":"入力ｼｰﾄ!#REF!","v":{"$error":"#REF!"}},{"$f":"入力ｼｰﾄ!#REF!","v":{"$error":"#REF!"}},{"$f":"入力ｼｰﾄ!#REF!","v":{"$error":"#REF!"}},{"$f":"入力ｼｰﾄ!#REF!","v":{"$error":"#REF!"}},{"$f":"入力ｼｰﾄ!#REF!","v":{"$error":"#REF!"}},{"$f":"入力ｼｰﾄ!#REF!","v":{"$error":"#REF!"}},{"$f":"入力ｼｰﾄ!#REF!","v":{"$error":"#REF!"}},{"$f":"入力ｼｰﾄ!#REF!","v":{"$error":"#REF!"}},{"$f":"入力ｼｰﾄ!#REF!","v":{"$error":"#REF!"}},{"$f":"入力ｼｰﾄ!#REF!","v":{"$error":"#REF!"}},{"$f":"入力ｼｰﾄ!#REF!","v":{"$error":"#REF!"}},{"$f":"入力ｼｰﾄ!#REF!","v":{"$error":"#REF!"}},{"$f":"入力ｼｰﾄ!#REF!","v":{"$error":"#REF!"}},{"$f":"入力ｼｰﾄ!#REF!","v":{"$error":"#REF!"}},{"$f":"入力ｼｰﾄ!#REF!","v":{"$error":"#REF!"}},{"$f":"入力ｼｰﾄ!#REF!","v":{"$error":"#REF!"}},{"$f":"入力ｼｰﾄ!#REF!","v":{"$error":"#REF!"}},{"$f":"入力ｼｰﾄ!#REF!","v":{"$error":"#REF!"}},{"$f":"入力ｼｰﾄ!#REF!","v":{"$error":"#REF!"}},{"$f":"入力ｼｰﾄ!#REF!","v":{"$error":"#REF!"}},{"$f":"入力ｼｰﾄ!#REF!","v":{"$error":"#REF!"}},{"$f":"入力ｼｰﾄ!#REF!","v":{"$error":"#REF!"}},{"$f":"入力ｼｰﾄ!#REF!","v":{"$error":"#REF!"}},{"$f":"入力ｼｰﾄ!#REF!","v":{"$error":"#REF!"}},{"$f":"入力ｼｰﾄ!#REF!","v":{"$error":"#REF!"}},{"$f":"入力ｼｰﾄ!#REF!","v":{"$error":"#REF!"}},{"$f":"入力ｼｰﾄ!#REF!","v":{"$error":"#REF!"}},{"$f":"入力ｼｰﾄ!#REF!","v":{"$error":"#REF!"}},{"$f":"入力ｼｰﾄ!#REF!","v":{"$error":"#REF!"}},{"$f":"入力ｼｰﾄ!#REF!","v":{"$error":"#REF!"}},{"$f":"入力ｼｰﾄ!#REF!","v":{"$error":"#REF!"}},{"$f":"入力ｼｰﾄ!#REF!","v":{"$error":"#REF!"}},{"$f":"入力ｼｰﾄ!#REF!","v":{"$error":"#REF!"}},{"$f":"入力ｼｰﾄ!#REF!","v":{"$error":"#REF!"}},{"$f":"入力ｼｰﾄ!#REF!","v":{"$error":"#REF!"}},{"$f":"入力ｼｰﾄ!#REF!","v":{"$error":"#REF!"}},{"$f":"入力ｼｰﾄ!#REF!","v":{"$error":"#REF!"}},{"$f":"入力ｼｰﾄ!#REF!","v":{"$error":"#REF!"}},{"$f":"入力ｼｰﾄ!#REF!","v":{"$error":"#REF!"}},{"$f":"入力ｼｰﾄ!#REF!","v":{"$error":"#REF!"}},{"$f":"入力ｼｰﾄ!#REF!","v":{"$error":"#REF!"}},{"$f":"入力ｼｰﾄ!#REF!","v":{"$error":"#REF!"}},{"$f":"入力ｼｰﾄ!#REF!","v":{"$error":"#REF!"}},{"$f":"入力ｼｰﾄ!#REF!","v":{"$error":"#REF!"}},{"$f":"入力ｼｰﾄ!#REF!","v":{"$error":"#REF!"}},{"$f":"入力ｼｰﾄ!#REF!","v":{"$error":"#REF!"}},{"$f":"入力ｼｰﾄ!#REF!","v":{"$error":"#REF!"}},{"$f":"入力ｼｰﾄ!#REF!","v":{"$error":"#REF!"}},{"$f":"入力ｼｰﾄ!#REF!","v":{"$error":"#REF!"}},{"$f":"入力ｼｰﾄ!#REF!","v":{"$error":"#REF!"}},{"$f":"入力ｼｰﾄ!#REF!","v":{"$error":"#REF!"}},{"$f":"入力ｼｰﾄ!#REF!","v":{"$error":"#REF!"}},{"$f":"入力ｼｰﾄ!#REF!","v":{"$error":"#REF!"}},{"$f":"入力ｼｰﾄ!#REF!","v":{"$error":"#REF!"}},{"$f":"入力ｼｰﾄ!#REF!","v":{"$error":"#REF!"}},{"$f":"入力ｼｰﾄ!#REF!","v":{"$error":"#REF!"}},{"$f":"入力ｼｰﾄ!#REF!","v":{"$error":"#REF!"}},{"$f":"入力ｼｰﾄ!#REF!","v":{"$error":"#REF!"}},{"$f":"入力ｼｰﾄ!#REF!","v":{"$error":"#REF!"}},{"$f":"入力ｼｰﾄ!#REF!","v":{"$error":"#REF!"}},{"$f":"入力ｼｰﾄ!#REF!","v":{"$error":"#REF!"}},{"$f":"入力ｼｰﾄ!#REF!","v":{"$error":"#REF!"}},{"$f":"入力ｼｰﾄ!#REF!","v":{"$error":"#REF!"}},{"$f":"入力ｼｰﾄ!#REF!","v":{"$error":"#REF!"}},{"$f":"入力ｼｰﾄ!#REF!","v":{"$error":"#REF!"}},{"$f":"入力ｼｰﾄ!#REF!","v":{"$error":"#REF!"}},{"$f":"入力ｼｰﾄ!#REF!","v":{"$error":"#REF!"}},{"$f":"入力ｼｰﾄ!#REF!","v":{"$error":"#REF!"}},{"$f":"入力ｼｰﾄ!#REF!","v":{"$error":"#REF!"}},{"$f":"入力ｼｰﾄ!#REF!","v":{"$error":"#REF!"}},{"$f":"入力ｼｰﾄ!#REF!","v":{"$error":"#REF!"}},{"$f":"入力ｼｰﾄ!#REF!","v":{"$error":"#REF!"}},{"$f":"入力ｼｰﾄ!#REF!","v":{"$error":"#REF!"}},{"$f":"入力ｼｰﾄ!#REF!","v":{"$error":"#REF!"}},{"$f":"入力ｼｰﾄ!#REF!","v":{"$error":"#REF!"}},{"$f":"入力ｼｰﾄ!#REF!","v":{"$error":"#REF!"}},{"$f":"入力ｼｰﾄ!#REF!","v":{"$error":"#REF!"}},{"$f":"入力ｼｰﾄ!#REF!","v":{"$error":"#REF!"}},{"$f":"入力ｼｰﾄ!#REF!","v":{"$error":"#REF!"}},{"$f":"入力ｼｰﾄ!#REF!","v":{"$error":"#REF!"}},{"$f":"入力ｼｰﾄ!#REF!","v":{"$error":"#REF!"}},{"$f":"入力ｼｰﾄ!#REF!","v":{"$error":"#REF!"}},{"$f":"入力ｼｰﾄ!#REF!","v":{"$error":"#REF!"}},{"$f":"入力ｼｰﾄ!#REF!","v":{"$error":"#REF!"}},{"$f":"入力ｼｰﾄ!#REF!","v":{"$error":"#REF!"}},{"$f":"入力ｼｰﾄ!#REF!","v":{"$error":"#REF!"}},{"$f":"入力ｼｰﾄ!#REF!","v":{"$error":"#REF!"}},{"$f":"入力ｼｰﾄ!#REF!","v":{"$error":"#REF!"}},{"$f":"入力ｼｰﾄ!#REF!","v":{"$error":"#REF!"}},{"$f":"入力ｼｰﾄ!#REF!","v":{"$error":"#REF!"}},{"$f":"入力ｼｰﾄ!#REF!","v":{"$error":"#REF!"}},{"$f":"入力ｼｰﾄ!#REF!","v":{"$error":"#REF!"}},{"$f":"入力ｼｰﾄ!#REF!","v":{"$error":"#REF!"}},{"$f":"入力ｼｰﾄ!#REF!","v":{"$error":"#REF!"}},{"$f":"入力ｼｰﾄ!#REF!","v":{"$error":"#REF!"}},{"$f":"入力ｼｰﾄ!#REF!","v":{"$error":"#REF!"}},{"$f":"入力ｼｰﾄ!#REF!","v":{"$error":"#REF!"}},{"$f":"入力ｼｰﾄ!#REF!","v":{"$error":"#REF!"}},{"$f":"入力ｼｰﾄ!#REF!","v":{"$error":"#REF!"}},{"$f":"入力ｼｰﾄ!#REF!","v":{"$error":"#REF!"}},{"$f":"入力ｼｰﾄ!#REF!","v":{"$error":"#REF!"}},{"$f":"入力ｼｰﾄ!#REF!","v":{"$error":"#REF!"}},{"$f":"入力ｼｰﾄ!#REF!","v":{"$error":"#REF!"}},{"$f":"入力ｼｰﾄ!#REF!","v":{"$error":"#REF!"}},{"$f":"入力ｼｰﾄ!#REF!","v":{"$error":"#REF!"}},{"$f":"入力ｼｰﾄ!#REF!","v":{"$error":"#REF!"}},{"$f":"入力ｼｰﾄ!#REF!","v":{"$error":"#REF!"}},{"$f":"入力ｼｰﾄ!#REF!","v":{"$error":"#REF!"}},{"$f":"入力ｼｰﾄ!#REF!","v":{"$error":"#REF!"}},{"$f":"入力ｼｰﾄ!#REF!","v":{"$error":"#REF!"}},{"$f":"入力ｼｰﾄ!#REF!","v":{"$error":"#REF!"}},{"$f":"入力ｼｰﾄ!#REF!","v":{"$error":"#REF!"}},{"$f":"入力ｼｰﾄ!#REF!","v":{"$error":"#REF!"}},{"$f":"入力ｼｰﾄ!#REF!","v":{"$error":"#REF!"}},{"$f":"入力ｼｰﾄ!#REF!","v":{"$error":"#REF!"}},{"$f":"入力ｼｰﾄ!#REF!","v":{"$error":"#REF!"}},{"$f":"入力ｼｰﾄ!#REF!","v":{"$error":"#REF!"}},{"$f":"入力ｼｰﾄ!#REF!","v":{"$error":"#REF!"}},{"$f":"入力ｼｰﾄ!#REF!","v":{"$error":"#REF!"}},{"$f":"入力ｼｰﾄ!#REF!","v":{"$error":"#REF!"}},{"$f":"入力ｼｰﾄ!#REF!","v":{"$error":"#REF!"}},{"$f":"入力ｼｰﾄ!#REF!","v":{"$error":"#REF!"}},{"$f":"入力ｼｰﾄ!#REF!","v":{"$error":"#REF!"}},{"$f":"入力ｼｰﾄ!#REF!","v":{"$error":"#REF!"}},{"$f":"入力ｼｰﾄ!#REF!","v":{"$error":"#REF!"}},{"$f":"入力ｼｰﾄ!#REF!","v":{"$error":"#REF!"}},{"$f":"入力ｼｰﾄ!#REF!","v":{"$error":"#REF!"}},{"$f":"入力ｼｰﾄ!#REF!","v":{"$error":"#REF!"}},{"$f":"入力ｼｰﾄ!#REF!","v":{"$error":"#REF!"}},{"$f":"入力ｼｰﾄ!#REF!","v":{"$error":"#REF!"}},{"$f":"入力ｼｰﾄ!#REF!","v":{"$error":"#REF!"}},{"$f":"入力ｼｰﾄ!#REF!","v":{"$error":"#REF!"}},{"$f":"入力ｼｰﾄ!#REF!","v":{"$error":"#REF!"}},{"$f":"入力ｼｰﾄ!#REF!","v":{"$error":"#REF!"}},{"$f":"入力ｼｰﾄ!#REF!","v":{"$error":"#REF!"}},{"$f":"入力ｼｰﾄ!#REF!","v":{"$error":"#REF!"}},{"$f":"入力ｼｰﾄ!#REF!","v":{"$error":"#REF!"}},{"$f":"入力ｼｰﾄ!#REF!","v":{"$error":"#REF!"}},{"$f":"入力ｼｰﾄ!#REF!","v":{"$error":"#REF!"}},{"$f":"入力ｼｰﾄ!#REF!","v":{"$error":"#REF!"}},{"$f":"入力ｼｰﾄ!#REF!","v":{"$error":"#REF!"}},{"$f":"入力ｼｰﾄ!#REF!","v":{"$error":"#REF!"}},{"$f":"入力ｼｰﾄ!#REF!","v":{"$error":"#REF!"}},{"$f":"入力ｼｰﾄ!#REF!","v":{"$error":"#REF!"}},{"$f":"入力ｼｰﾄ!#REF!","v":{"$error":"#REF!"}},{"$f":"入力ｼｰﾄ!#REF!","v":{"$error":"#REF!"}},{"$f":"入力ｼｰﾄ!#REF!","v":{"$error":"#REF!"}},{"$f":"入力ｼｰﾄ!#REF!","v":{"$error":"#REF!"}},{"$f":"入力ｼｰﾄ!#REF!","v":{"$error":"#REF!"}},{"$f":"入力ｼｰﾄ!#REF!","v":{"$error":"#REF!"}},{"$f":"入力ｼｰﾄ!#REF!","v":{"$error":"#REF!"}},{"$f":"入力ｼｰﾄ!#REF!","v":{"$error":"#REF!"}},{"$f":"入力ｼｰﾄ!#REF!","v":{"$error":"#REF!"}},{"$f":"入力ｼｰﾄ!#REF!","v":{"$error":"#REF!"}},{"$f":"入力ｼｰﾄ!#REF!","v":{"$error":"#REF!"}},{"$f":"入力ｼｰﾄ!#REF!","v":{"$error":"#REF!"}},{"$f":"入力ｼｰﾄ!#REF!","v":{"$error":"#REF!"}},{"$f":"入力ｼｰﾄ!#REF!","v":{"$error":"#REF!"}},{"$f":"入力ｼｰﾄ!#REF!","v":{"$error":"#REF!"}},{"$f":"入力ｼｰﾄ!#REF!","v":{"$error":"#REF!"}},{"$f":"入力ｼｰﾄ!#REF!","v":{"$error":"#REF!"}},{"$f":"入力ｼｰﾄ!#REF!","v":{"$error":"#REF!"}},{"$f":"入力ｼｰﾄ!#REF!","v":{"$error":"#REF!"}},{"$f":"入力ｼｰﾄ!#REF!","v":{"$error":"#REF!"}},{"$f":"入力ｼｰﾄ!#REF!","v":{"$error":"#REF!"}},{"$f":"入力ｼｰﾄ!#REF!","v":{"$error":"#REF!"}},{"$f":"入力ｼｰﾄ!#REF!","v":{"$error":"#REF!"}},{"$f":"入力ｼｰﾄ!#REF!","v":{"$error":"#REF!"}},{"$f":"入力ｼｰﾄ!#REF!","v":{"$error":"#REF!"}},{"$f":"入力ｼｰﾄ!#REF!","v":{"$error":"#REF!"}},{"$f":"入力ｼｰﾄ!#REF!","v":{"$error":"#REF!"}},{"$f":"入力ｼｰﾄ!#REF!","v":{"$error":"#REF!"}},{"$f":"入力ｼｰﾄ!#REF!","v":{"$error":"#REF!"}},{"$f":"入力ｼｰﾄ!#REF!","v":{"$error":"#REF!"}},{"$f":"入力ｼｰﾄ!#REF!","v":{"$error":"#REF!"}},{"$f":"入力ｼｰﾄ!#REF!","v":{"$error":"#REF!"}},{"$f":"入力ｼｰﾄ!#REF!","v":{"$error":"#REF!"}},{"$f":"入力ｼｰﾄ!#REF!","v":{"$error":"#REF!"}},{"$f":"入力ｼｰﾄ!#REF!","v":{"$error":"#REF!"}},{"$f":"入力ｼｰﾄ!#REF!","v":{"$error":"#REF!"}},{"$f":"入力ｼｰﾄ!#REF!","v":{"$error":"#REF!"}},{"$f":"入力ｼｰﾄ!#REF!","v":{"$error":"#REF!"}},{"$f":"入力ｼｰﾄ!#REF!","v":{"$error":"#REF!"}},{"$f":"入力ｼｰﾄ!#REF!","v":{"$error":"#REF!"}},{"$f":"入力ｼｰﾄ!#REF!","v":{"$error":"#REF!"}},{"$f":"入力ｼｰﾄ!#REF!","v":{"$error":"#REF!"}},{"$f":"入力ｼｰﾄ!#REF!","v":{"$error":"#REF!"}},{"$f":"入力ｼｰﾄ!#REF!","v":{"$error":"#REF!"}},{"$f":"入力ｼｰﾄ!#REF!","v":{"$error":"#REF!"}},{"$f":"入力ｼｰﾄ!#REF!","v":{"$error":"#REF!"}},{"$f":"入力ｼｰﾄ!#REF!","v":{"$error":"#REF!"}},{"$f":"入力ｼｰﾄ!#REF!","v":{"$error":"#REF!"}},{"$f":"入力ｼｰﾄ!#REF!","v":{"$error":"#REF!"}},{"$f":"入力ｼｰﾄ!#REF!","v":{"$error":"#REF!"}},{"$f":"入力ｼｰﾄ!#REF!","v":{"$error":"#REF!"}},{"$f":"入力ｼｰﾄ!#REF!","v":{"$error":"#REF!"}},{"$f":"入力ｼｰﾄ!#REF!","v":{"$error":"#REF!"}},{"$f":"入力ｼｰﾄ!#REF!","v":{"$error":"#REF!"}},{"$f":"入力ｼｰﾄ!#REF!","v":{"$error":"#REF!"}},{"$f":"入力ｼｰﾄ!#REF!","v":{"$error":"#REF!"}},{"$f":"入力ｼｰﾄ!#REF!","v":{"$error":"#REF!"}},{"$f":"入力ｼｰﾄ!#REF!","v":{"$error":"#REF!"}},{"$f":"入力ｼｰﾄ!#REF!","v":{"$error":"#REF!"}},{"$f":"入力ｼｰﾄ!#REF!","v":{"$error":"#REF!"}},{"$f":"入力ｼｰﾄ!#REF!","v":{"$error":"#REF!"}},{"$f":"入力ｼｰﾄ!#REF!","v":{"$error":"#REF!"}},{"$f":"入力ｼｰﾄ!#REF!","v":{"$error":"#REF!"}},{"$f":"入力ｼｰﾄ!#REF!","v":{"$error":"#REF!"}},{"$f":"入力ｼｰﾄ!#REF!","v":{"$error":"#REF!"}},{"$f":"入力ｼｰﾄ!#REF!","v":{"$error":"#REF!"}},{"$f":"入力ｼｰﾄ!#REF!","v":{"$error":"#REF!"}},{"$f":"入力ｼｰﾄ!#REF!","v":{"$error":"#REF!"}},{"$f":"入力ｼｰﾄ!#REF!","v":{"$error":"#REF!"}},{"$f":"入力ｼｰﾄ!#REF!","v":{"$error":"#REF!"}},{"$f":"入力ｼｰﾄ!#REF!","v":{"$error":"#REF!"}},{"$f":"入力ｼｰﾄ!#REF!","v":{"$error":"#REF!"}},{"$f":"入力ｼｰﾄ!#REF!","v":{"$error":"#REF!"}},{"$f":"入力ｼｰﾄ!#REF!","v":{"$error":"#REF!"}},{"$f":"入力ｼｰﾄ!#REF!","v":{"$error":"#REF!"}},{"$f":"入力ｼｰﾄ!#REF!","v":{"$error":"#REF!"}},{"$f":"入力ｼｰﾄ!#REF!","v":{"$error":"#REF!"}},{"$f":"入力ｼｰﾄ!#REF!","v":{"$error":"#REF!"}},{"$f":"入力ｼｰﾄ!#REF!","v":{"$error":"#REF!"}},{"$f":"入力ｼｰﾄ!#REF!","v":{"$error":"#REF!"}},{"$f":"入力ｼｰﾄ!#REF!","v":{"$error":"#REF!"}},{"$f":"入力ｼｰﾄ!#REF!","v":{"$error":"#REF!"}}]
["借入",{"$f":"入力ｼｰﾄ!#REF!","v":{"$error":"#REF!"}},{"$f":"入力ｼｰﾄ!#REF!","v":{"$error":"#REF!"}},{"$f":"入力ｼｰﾄ!#REF!","v":{"$error":"#REF!"}},{"$f":"入力ｼｰﾄ!#REF!","v":{"$error":"#REF!"}},{"$f":"入力ｼｰﾄ!#REF!","v":{"$error":"#REF!"}},{"$f":"入力ｼｰﾄ!#REF!","v":{"$error":"#REF!"}},{"$f":"入力ｼｰﾄ!#REF!","v":{"$error":"#REF!"}},{"$f":"入力ｼｰﾄ!#REF!","v":{"$error":"#REF!"}},{"$f":"入力ｼｰﾄ!#REF!","v":{"$error":"#REF!"}},{"$f":"入力ｼｰﾄ!#REF!","v":{"$error":"#REF!"}},{"$f":"入力ｼｰﾄ!#REF!","v":{"$error":"#REF!"}},{"$f":"入力ｼｰﾄ!#REF!","v":{"$error":"#REF!"}},{"$f":"入力ｼｰﾄ!#REF!","v":{"$error":"#REF!"}},{"$f":"入力ｼｰﾄ!#REF!","v":{"$error":"#REF!"}},{"$f":"入力ｼｰﾄ!#REF!","v":{"$error":"#REF!"}},{"$f":"入力ｼｰﾄ!#REF!","v":{"$error":"#REF!"}},{"$f":"入力ｼｰﾄ!#REF!","v":{"$error":"#REF!"}},{"$f":"入力ｼｰﾄ!#REF!","v":{"$error":"#REF!"}},{"$f":"入力ｼｰﾄ!#REF!","v":{"$error":"#REF!"}},{"$f":"入力ｼｰﾄ!#REF!","v":{"$error":"#REF!"}},{"$f":"入力ｼｰﾄ!#REF!","v":{"$error":"#REF!"}},{"$f":"入力ｼｰﾄ!#REF!","v":{"$error":"#REF!"}},{"$f":"入力ｼｰﾄ!#REF!","v":{"$error":"#REF!"}},{"$f":"入力ｼｰﾄ!#REF!","v":{"$error":"#REF!"}},{"$f":"入力ｼｰﾄ!#REF!","v":{"$error":"#REF!"}},{"$f":"入力ｼｰﾄ!#REF!","v":{"$error":"#REF!"}},{"$f":"入力ｼｰﾄ!#REF!","v":{"$error":"#REF!"}},{"$f":"入力ｼｰﾄ!#REF!","v":{"$error":"#REF!"}},{"$f":"入力ｼｰﾄ!#REF!","v":{"$error":"#REF!"}},{"$f":"入力ｼｰﾄ!#REF!","v":{"$error":"#REF!"}},{"$f":"入力ｼｰﾄ!#REF!","v":{"$error":"#REF!"}},{"$f":"入力ｼｰﾄ!#REF!","v":{"$error":"#REF!"}},{"$f":"入力ｼｰﾄ!#REF!","v":{"$error":"#REF!"}},{"$f":"入力ｼｰﾄ!#REF!","v":{"$error":"#REF!"}},{"$f":"入力ｼｰﾄ!#REF!","v":{"$error":"#REF!"}},{"$f":"入力ｼｰﾄ!#REF!","v":{"$error":"#REF!"}},{"$f":"入力ｼｰﾄ!#REF!","v":{"$error":"#REF!"}},{"$f":"入力ｼｰﾄ!#REF!","v":{"$error":"#REF!"}},{"$f":"入力ｼｰﾄ!#REF!","v":{"$error":"#REF!"}},{"$f":"入力ｼｰﾄ!#REF!","v":{"$error":"#REF!"}},{"$f":"入力ｼｰﾄ!#REF!","v":{"$error":"#REF!"}},{"$f":"入力ｼｰﾄ!#REF!","v":{"$error":"#REF!"}},{"$f":"入力ｼｰﾄ!#REF!","v":{"$error":"#REF!"}},{"$f":"入力ｼｰﾄ!#REF!","v":{"$error":"#REF!"}},{"$f":"入力ｼｰﾄ!#REF!","v":{"$error":"#REF!"}},{"$f":"入力ｼｰﾄ!#REF!","v":{"$error":"#REF!"}},{"$f":"入力ｼｰﾄ!#REF!","v":{"$error":"#REF!"}},{"$f":"入力ｼｰﾄ!#REF!","v":{"$error":"#REF!"}},{"$f":"入力ｼｰﾄ!#REF!","v":{"$error":"#REF!"}},{"$f":"入力ｼｰﾄ!#REF!","v":{"$error":"#REF!"}},{"$f":"入力ｼｰﾄ!#REF!","v":{"$error":"#REF!"}},{"$f":"入力ｼｰﾄ!#REF!","v":{"$error":"#REF!"}},{"$f":"入力ｼｰﾄ!#REF!","v":{"$error":"#REF!"}},{"$f":"入力ｼｰﾄ!#REF!","v":{"$error":"#REF!"}},{"$f":"入力ｼｰﾄ!#REF!","v":{"$error":"#REF!"}},{"$f":"入力ｼｰﾄ!#REF!","v":{"$error":"#REF!"}},{"$f":"入力ｼｰﾄ!#REF!","v":{"$error":"#REF!"}},{"$f":"入力ｼｰﾄ!#REF!","v":{"$error":"#REF!"}},{"$f":"入力ｼｰﾄ!#REF!","v":{"$error":"#REF!"}},{"$f":"入力ｼｰﾄ!#REF!","v":{"$error":"#REF!"}},{"$f":"入力ｼｰﾄ!#REF!","v":{"$error":"#REF!"}},{"$f":"入力ｼｰﾄ!#REF!","v":{"$error":"#REF!"}},{"$f":"入力ｼｰﾄ!#REF!","v":{"$error":"#REF!"}},{"$f":"入力ｼｰﾄ!#REF!","v":{"$error":"#REF!"}},{"$f":"入力ｼｰﾄ!#REF!","v":{"$error":"#REF!"}},{"$f":"入力ｼｰﾄ!#REF!","v":{"$error":"#REF!"}},{"$f":"入力ｼｰﾄ!#REF!","v":{"$error":"#REF!"}},{"$f":"入力ｼｰﾄ!#REF!","v":{"$error":"#REF!"}},{"$f":"入力ｼｰﾄ!#REF!","v":{"$error":"#REF!"}},{"$f":"入力ｼｰﾄ!#REF!","v":{"$error":"#REF!"}},{"$f":"入力ｼｰﾄ!#REF!","v":{"$error":"#REF!"}},{"$f":"入力ｼｰﾄ!#REF!","v":{"$error":"#REF!"}},{"$f":"入力ｼｰﾄ!#REF!","v":{"$error":"#REF!"}},{"$f":"入力ｼｰﾄ!#REF!","v":{"$error":"#REF!"}},{"$f":"入力ｼｰﾄ!#REF!","v":{"$error":"#REF!"}},{"$f":"入力ｼｰﾄ!#REF!","v":{"$error":"#REF!"}},{"$f":"入力ｼｰﾄ!#REF!","v":{"$error":"#REF!"}},{"$f":"入力ｼｰﾄ!#REF!","v":{"$error":"#REF!"}},{"$f":"入力ｼｰﾄ!#REF!","v":{"$error":"#REF!"}},{"$f":"入力ｼｰﾄ!#REF!","v":{"$error":"#REF!"}},{"$f":"入力ｼｰﾄ!#REF!","v":{"$error":"#REF!"}},{"$f":"入力ｼｰﾄ!#REF!","v":{"$error":"#REF!"}},{"$f":"入力ｼｰﾄ!#REF!","v":{"$error":"#REF!"}},{"$f":"入力ｼｰﾄ!#REF!","v":{"$error":"#REF!"}},{"$f":"入力ｼｰﾄ!#REF!","v":{"$error":"#REF!"}},{"$f":"入力ｼｰﾄ!#REF!","v":{"$error":"#REF!"}},{"$f":"入力ｼｰﾄ!#REF!","v":{"$error":"#REF!"}},{"$f":"入力ｼｰﾄ!#REF!","v":{"$error":"#REF!"}},{"$f":"入力ｼｰﾄ!#REF!","v":{"$error":"#REF!"}},{"$f":"入力ｼｰﾄ!#REF!","v":{"$error":"#REF!"}},{"$f":"入力ｼｰﾄ!#REF!","v":{"$error":"#REF!"}},{"$f":"入力ｼｰﾄ!#REF!","v":{"$error":"#REF!"}},{"$f":"入力ｼｰﾄ!#REF!","v":{"$error":"#REF!"}},{"$f":"入力ｼｰﾄ!#REF!","v":{"$error":"#REF!"}},{"$f":"入力ｼｰﾄ!#REF!","v":{"$error":"#REF!"}},{"$f":"入力ｼｰﾄ!#REF!","v":{"$error":"#REF!"}},{"$f":"入力ｼｰﾄ!#REF!","v":{"$error":"#REF!"}},{"$f":"入力ｼｰﾄ!#REF!","v":{"$error":"#REF!"}},{"$f":"入力ｼｰﾄ!#REF!","v":{"$error":"#REF!"}},{"$f":"入力ｼｰﾄ!#REF!","v":{"$error":"#REF!"}},{"$f":"入力ｼｰﾄ!#REF!","v":{"$error":"#REF!"}},{"$f":"入力ｼｰﾄ!#REF!","v":{"$error":"#REF!"}},{"$f":"入力ｼｰﾄ!#REF!","v":{"$error":"#REF!"}},{"$f":"入力ｼｰﾄ!#REF!","v":{"$error":"#REF!"}},{"$f":"入力ｼｰﾄ!#REF!","v":{"$error":"#REF!"}},{"$f":"入力ｼｰﾄ!#REF!","v":{"$error":"#REF!"}},{"$f":"入力ｼｰﾄ!#REF!","v":{"$error":"#REF!"}},{"$f":"入力ｼｰﾄ!#REF!","v":{"$error":"#REF!"}},{"$f":"入力ｼｰﾄ!#REF!","v":{"$error":"#REF!"}},{"$f":"入力ｼｰﾄ!#REF!","v":{"$error":"#REF!"}},{"$f":"入力ｼｰﾄ!#REF!","v":{"$error":"#REF!"}},{"$f":"入力ｼｰﾄ!#REF!","v":{"$error":"#REF!"}},{"$f":"入力ｼｰﾄ!#REF!","v":{"$error":"#REF!"}},{"$f":"入力ｼｰﾄ!#REF!","v":{"$error":"#REF!"}},{"$f":"入力ｼｰﾄ!#REF!","v":{"$error":"#REF!"}},{"$f":"入力ｼｰﾄ!#REF!","v":{"$error":"#REF!"}},{"$f":"入力ｼｰﾄ!#REF!","v":{"$error":"#REF!"}},{"$f":"入力ｼｰﾄ!#REF!","v":{"$error":"#REF!"}},{"$f":"入力ｼｰﾄ!#REF!","v":{"$error":"#REF!"}},{"$f":"入力ｼｰﾄ!#REF!","v":{"$error":"#REF!"}},{"$f":"入力ｼｰﾄ!#REF!","v":{"$error":"#REF!"}},{"$f":"入力ｼｰﾄ!#REF!","v":{"$error":"#REF!"}},{"$f":"入力ｼｰﾄ!#REF!","v":{"$error":"#REF!"}},{"$f":"入力ｼｰﾄ!#REF!","v":{"$error":"#REF!"}},{"$f":"入力ｼｰﾄ!#REF!","v":{"$error":"#REF!"}},{"$f":"入力ｼｰﾄ!#REF!","v":{"$error":"#REF!"}},{"$f":"入力ｼｰﾄ!#REF!","v":{"$error":"#REF!"}},{"$f":"入力ｼｰﾄ!#REF!","v":{"$error":"#REF!"}},{"$f":"入力ｼｰﾄ!#REF!","v":{"$error":"#REF!"}},{"$f":"入力ｼｰﾄ!#REF!","v":{"$error":"#REF!"}},{"$f":"入力ｼｰﾄ!#REF!","v":{"$error":"#REF!"}},{"$f":"入力ｼｰﾄ!#REF!","v":{"$error":"#REF!"}},{"$f":"入力ｼｰﾄ!#REF!","v":{"$error":"#REF!"}},{"$f":"入力ｼｰﾄ!#REF!","v":{"$error":"#REF!"}},{"$f":"入力ｼｰﾄ!#REF!","v":{"$error":"#REF!"}},{"$f":"入力ｼｰﾄ!#REF!","v":{"$error":"#REF!"}},{"$f":"入力ｼｰﾄ!#REF!","v":{"$error":"#REF!"}},{"$f":"入力ｼｰﾄ!#REF!","v":{"$error":"#REF!"}},{"$f":"入力ｼｰﾄ!#REF!","v":{"$error":"#REF!"}},{"$f":"入力ｼｰﾄ!#REF!","v":{"$error":"#REF!"}},{"$f":"入力ｼｰﾄ!#REF!","v":{"$error":"#REF!"}},{"$f":"入力ｼｰﾄ!#REF!","v":{"$error":"#REF!"}},{"$f":"入力ｼｰﾄ!#REF!","v":{"$error":"#REF!"}},{"$f":"入力ｼｰﾄ!#REF!","v":{"$error":"#REF!"}},{"$f":"入力ｼｰﾄ!#REF!","v":{"$error":"#REF!"}},{"$f":"入力ｼｰﾄ!#REF!","v":{"$error":"#REF!"}},{"$f":"入力ｼｰﾄ!#REF!","v":{"$error":"#REF!"}},{"$f":"入力ｼｰﾄ!#REF!","v":{"$error":"#REF!"}},{"$f":"入力ｼｰﾄ!#REF!","v":{"$error":"#REF!"}},{"$f":"入力ｼｰﾄ!#REF!","v":{"$error":"#REF!"}},{"$f":"入力ｼｰﾄ!#REF!","v":{"$error":"#REF!"}},{"$f":"入力ｼｰﾄ!#REF!","v":{"$error":"#REF!"}},{"$f":"入力ｼｰﾄ!#REF!","v":{"$error":"#REF!"}},{"$f":"入力ｼｰﾄ!#REF!","v":{"$error":"#REF!"}},{"$f":"入力ｼｰﾄ!#REF!","v":{"$error":"#REF!"}},{"$f":"入力ｼｰﾄ!#REF!","v":{"$error":"#REF!"}},{"$f":"入力ｼｰﾄ!#REF!","v":{"$error":"#REF!"}},{"$f":"入力ｼｰﾄ!#REF!","v":{"$error":"#REF!"}},{"$f":"入力ｼｰﾄ!#REF!","v":{"$error":"#REF!"}},{"$f":"入力ｼｰﾄ!#REF!","v":{"$error":"#REF!"}},{"$f":"入力ｼｰﾄ!#REF!","v":{"$error":"#REF!"}},{"$f":"入力ｼｰﾄ!#REF!","v":{"$error":"#REF!"}},{"$f":"入力ｼｰﾄ!#REF!","v":{"$error":"#REF!"}},{"$f":"入力ｼｰﾄ!#REF!","v":{"$error":"#REF!"}},{"$f":"入力ｼｰﾄ!#REF!","v":{"$error":"#REF!"}},{"$f":"入力ｼｰﾄ!#REF!","v":{"$error":"#REF!"}},{"$f":"入力ｼｰﾄ!#REF!","v":{"$error":"#REF!"}},{"$f":"入力ｼｰﾄ!#REF!","v":{"$error":"#REF!"}},{"$f":"入力ｼｰﾄ!#REF!","v":{"$error":"#REF!"}},{"$f":"入力ｼｰﾄ!#REF!","v":{"$error":"#REF!"}},{"$f":"入力ｼｰﾄ!#REF!","v":{"$error":"#REF!"}},{"$f":"入力ｼｰﾄ!#REF!","v":{"$error":"#REF!"}},{"$f":"入力ｼｰﾄ!#REF!","v":{"$error":"#REF!"}},{"$f":"入力ｼｰﾄ!#REF!","v":{"$error":"#REF!"}},{"$f":"入力ｼｰﾄ!#REF!","v":{"$error":"#REF!"}},{"$f":"入力ｼｰﾄ!#REF!","v":{"$error":"#REF!"}},{"$f":"入力ｼｰﾄ!#REF!","v":{"$error":"#REF!"}},{"$f":"入力ｼｰﾄ!#REF!","v":{"$error":"#REF!"}},{"$f":"入力ｼｰﾄ!#REF!","v":{"$error":"#REF!"}},{"$f":"入力ｼｰﾄ!#REF!","v":{"$error":"#REF!"}},{"$f":"入力ｼｰﾄ!#REF!","v":{"$error":"#REF!"}},{"$f":"入力ｼｰﾄ!#REF!","v":{"$error":"#REF!"}},{"$f":"入力ｼｰﾄ!#REF!","v":{"$error":"#REF!"}},{"$f":"入力ｼｰﾄ!#REF!","v":{"$error":"#REF!"}},{"$f":"入力ｼｰﾄ!#REF!","v":{"$error":"#REF!"}},{"$f":"入力ｼｰﾄ!#REF!","v":{"$error":"#REF!"}},{"$f":"入力ｼｰﾄ!#REF!","v":{"$error":"#REF!"}},{"$f":"入力ｼｰﾄ!#REF!","v":{"$error":"#REF!"}},{"$f":"入力ｼｰﾄ!#REF!","v":{"$error":"#REF!"}},{"$f":"入力ｼｰﾄ!#REF!","v":{"$error":"#REF!"}},{"$f":"入力ｼｰﾄ!#REF!","v":{"$error":"#REF!"}},{"$f":"入力ｼｰﾄ!#REF!","v":{"$error":"#REF!"}},{"$f":"入力ｼｰﾄ!#REF!","v":{"$error":"#REF!"}},{"$f":"入力ｼｰﾄ!#REF!","v":{"$error":"#REF!"}},{"$f":"入力ｼｰﾄ!#REF!","v":{"$error":"#REF!"}},{"$f":"入力ｼｰﾄ!#REF!","v":{"$error":"#REF!"}},{"$f":"入力ｼｰﾄ!#REF!","v":{"$error":"#REF!"}},{"$f":"入力ｼｰﾄ!#REF!","v":{"$error":"#REF!"}},{"$f":"入力ｼｰﾄ!#REF!","v":{"$error":"#REF!"}},{"$f":"入力ｼｰﾄ!#REF!","v":{"$error":"#REF!"}},{"$f":"入力ｼｰﾄ!#REF!","v":{"$error":"#REF!"}},{"$f":"入力ｼｰﾄ!#REF!","v":{"$error":"#REF!"}},{"$f":"入力ｼｰﾄ!#REF!","v":{"$error":"#REF!"}},{"$f":"入力ｼｰﾄ!#REF!","v":{"$error":"#REF!"}},{"$f":"入力ｼｰﾄ!#REF!","v":{"$error":"#REF!"}},{"$f":"入力ｼｰﾄ!#REF!","v":{"$error":"#REF!"}},{"$f":"入力ｼｰﾄ!#REF!","v":{"$error":"#REF!"}},{"$f":"入力ｼｰﾄ!#REF!","v":{"$error":"#REF!"}},{"$f":"入力ｼｰﾄ!#REF!","v":{"$error":"#REF!"}},{"$f":"入力ｼｰﾄ!#REF!","v":{"$error":"#REF!"}},{"$f":"入力ｼｰﾄ!#REF!","v":{"$error":"#REF!"}},{"$f":"入力ｼｰﾄ!#REF!","v":{"$error":"#REF!"}},{"$f":"入力ｼｰﾄ!#REF!","v":{"$error":"#REF!"}},{"$f":"入力ｼｰﾄ!#REF!","v":{"$error":"#REF!"}},{"$f":"入力ｼｰﾄ!#REF!","v":{"$error":"#REF!"}},{"$f":"入力ｼｰﾄ!#REF!","v":{"$error":"#REF!"}},{"$f":"入力ｼｰﾄ!#REF!","v":{"$error":"#REF!"}},{"$f":"入力ｼｰﾄ!#REF!","v":{"$error":"#REF!"}},{"$f":"入力ｼｰﾄ!#REF!","v":{"$error":"#REF!"}},{"$f":"入力ｼｰﾄ!#REF!","v":{"$error":"#REF!"}},{"$f":"入力ｼｰﾄ!#REF!","v":{"$error":"#REF!"}},{"$f":"入力ｼｰﾄ!#REF!","v":{"$error":"#REF!"}},{"$f":"入力ｼｰﾄ!#REF!","v":{"$error":"#REF!"}},{"$f":"入力ｼｰﾄ!#REF!","v":{"$error":"#REF!"}},{"$f":"入力ｼｰﾄ!#REF!","v":{"$error":"#REF!"}},{"$f":"入力ｼｰﾄ!#REF!","v":{"$error":"#REF!"}},{"$f":"入力ｼｰﾄ!#REF!","v":{"$error":"#REF!"}},{"$f":"入力ｼｰﾄ!#REF!","v":{"$error":"#REF!"}},{"$f":"入力ｼｰﾄ!#REF!","v":{"$error":"#REF!"}},{"$f":"入力ｼｰﾄ!#REF!","v":{"$error":"#REF!"}},{"$f":"入力ｼｰﾄ!#REF!","v":{"$error":"#REF!"}},{"$f":"入力ｼｰﾄ!#REF!","v":{"$error":"#REF!"}},{"$f":"入力ｼｰﾄ!#REF!","v":{"$error":"#REF!"}},{"$f":"入力ｼｰﾄ!#REF!","v":{"$error":"#REF!"}},{"$f":"入力ｼｰﾄ!#REF!","v":{"$error":"#REF!"}},{"$f":"入力ｼｰﾄ!#REF!","v":{"$error":"#REF!"}},{"$f":"入力ｼｰﾄ!#REF!","v":{"$error":"#REF!"}},{"$f":"入力ｼｰﾄ!#REF!","v":{"$error":"#REF!"}},{"$f":"入力ｼｰﾄ!#REF!","v":{"$error":"#REF!"}},{"$f":"入力ｼｰﾄ!#REF!","v":{"$error":"#REF!"}}]
[]
["■元利均等",1,2,3,4,5,6,7,8,9,10,11,12,13,14,15,16,17,18,19,20]
["元金",{"$f":"IF(B4<=(B5*12),PPMT(B3/12,B4,B5*12,B6),\"\")","v":{"$error":"#REF!"}},{"$error":"#REF!"},{"$error":"#REF!"},{"$error":"#REF!"},{"$error":"#REF!"},{"$error":"#REF!"},{"$error":"#REF!"},{"$error":"#REF!"},{"$error":"#REF!"},{"$error":"#REF!"},{"$error":"#REF!"},{"$error":"#REF!"},{"$error":"#REF!"},{"$error":"#REF!"},{"$error":"#REF!"},{"$error":"#REF!"},{"$error":"#REF!"},{"$error":"#REF!"},{"$error":"#REF!"},{"$error":"#REF!"},{"$error":"#REF!"},{"$error":"#REF!"},{"$error":"#REF!"},{"$error":"#REF!"},{"$error":"#REF!"},{"$error":"#REF!"},{"$error":"#REF!"},{"$error":"#REF!"},{"$error":"#REF!"},{"$error":"#REF!"},{"$error":"#REF!"},{"$error":"#REF!"},{"$error":"#REF!"},{"$error":"#REF!"},{"$error":"#REF!"},{"$error":"#REF!"},{"$error":"#REF!"},{"$error":"#REF!"},{"$error":"#REF!"},{"$error":"#REF!"},{"$error":"#REF!"},{"$error":"#REF!"},{"$error":"#REF!"},{"$error":"#REF!"},{"$error":"#REF!"},{"$error":"#REF!"},{"$error":"#REF!"},{"$error":"#REF!"},{"$error":"#REF!"},{"$error":"#REF!"},{"$error":"#REF!"},{"$error":"#REF!"},{"$error":"#REF!"},{"$error":"#REF!"},{"$error":"#REF!"},{"$error":"#REF!"},{"$error":"#REF!"},{"$error":"#REF!"},{"$error":"#REF!"},{"$error":"#REF!"},{"$error":"#REF!"},{"$error":"#REF!"},{"$error":"#REF!"},{"$error":"#REF!"},{"$f":"IF(BN4<=(BN5*12),PPMT(BN3/12,BN4,BN5*12,BN6),\"\")","v":{"$error":"#REF!"}},{"$error":"#REF!"},{"$error":"#REF!"},{"$error":"#REF!"},{"$error":"#REF!"},{"$error":"#REF!"},{"$error":"#REF!"},{"$error":"#REF!"},{"$error":"#REF!"},{"$error":"#REF!"},{"$error":"#REF!"},{"$error":"#REF!"},{"$error":"#REF!"},{"$error":"#REF!"},{"$error":"#REF!"},{"$error":"#REF!"},{"$error":"#REF!"},{"$error":"#REF!"},{"$error":"#REF!"},{"$error":"#REF!"},{"$error":"#REF!"},{"$error":"#REF!"},{"$error":"#REF!"},{"$error":"#REF!"},{"$error":"#REF!"},{"$error":"#REF!"},{"$error":"#REF!"},{"$error":"#REF!"},{"$error":"#REF!"},{"$error":"#REF!"},{"$error":"#REF!"},{"$error":"#REF!"},{"$error":"#REF!"},{"$error":"#REF!"},{"$error":"#REF!"},{"$error":"#REF!"},{"$error":"#REF!"},{"$error":"#REF!"},{"$error":"#REF!"},{"$error":"#REF!"},{"$error":"#REF!"},{"$error":"#REF!"},{"$error":"#REF!"},{"$error":"#REF!"},{"$error":"#REF!"},{"$error":"#REF!"},{"$error":"#REF!"},{"$error":"#REF!"},{"$error":"#REF!"},{"$error":"#REF!"},{"$error":"#REF!"},{"$error":"#REF!"},{"$error":"#REF!"},{"$error":"#REF!"},{"$error":"#REF!"},{"$error":"#REF!"},{"$error":"#REF!"},{"$error":"#REF!"},{"$error":"#REF!"},{"$error":"#REF!"},{"$error":"#REF!"},{"$error":"#REF!"},{"$error":"#REF!"},{"$error":"#REF!"},{"$f":"IF(DZ4<=(DZ5*12),PPMT(DZ3/12,DZ4,DZ5*12,DZ6),\"\")","v":{"$error":"#REF!"}},{"$error":"#REF!"},{"$error":"#REF!"},{"$error":"#REF!"},{"$error":"#REF!"},{"$error":"#REF!"},{"$error":"#REF!"},{"$error":"#REF!"},{"$error":"#REF!"},{"$error":"#REF!"},{"$error":"#REF!"},{"$error":"#REF!"},{"$error":"#REF!"},{"$error":"#REF!"},{"$error":"#REF!"},{"$error":"#REF!"},{"$error":"#REF!"},{"$error":"#REF!"},{"$error":"#REF!"},{"$error":"#REF!"},{"$error":"#REF!"},{"$error":"#REF!"},{"$error":"#REF!"},{"$error":"#REF!"},{"$error":"#REF!"},{"$error":"#REF!"},{"$error":"#REF!"},{"$error":"#REF!"},{"$error":"#REF!"},{"$error":"#REF!"},{"$error":"#REF!"},{"$error":"#REF!"},{"$error":"#REF!"},{"$error":"#REF!"},{"$error":"#REF!"},{"$error":"#REF!"},{"$error":"#REF!"},{"$error":"#REF!"},{"$error":"#REF!"},{"$error":"#REF!"},{"$error":"#REF!"},{"$error":"#REF!"},{"$error":"#REF!"},{"$error":"#REF!"},{"$error":"#REF!"},{"$error":"#REF!"},{"$error":"#REF!"},{"$error":"#REF!"},{"$error":"#REF!"},{"$error":"#REF!"},{"$error":"#REF!"},{"$error":"#REF!"},{"$error":"#REF!"},{"$error":"#REF!"},{"$error":"#REF!"},{"$error":"#REF!"},{"$error":"#REF!"},{"$error":"#REF!"},{"$error":"#REF!"},{"$error":"#REF!"},{"$error":"#REF!"},{"$error":"#REF!"},{"$error":"#REF!"},{"$error":"#REF!"},{"$f":"IF(GL4<=(GL5*12),PPMT(GL3/12,GL4,GL5*12,GL6),\"\")","v":{"$error":"#REF!"}},{"$error":"#REF!"},{"$error":"#REF!"},{"$error":"#REF!"},{"$error":"#REF!"},{"$error":"#REF!"},{"$error":"#REF!"},{"$error":"#REF!"},{"$error":"#REF!"},{"$error":"#REF!"},{"$error":"#REF!"},{"$error":"#REF!"},{"$error":"#REF!"},{"$error":"#REF!"},{"$error":"#REF!"},{"$error":"#REF!"},{"$error":"#REF!"},{"$error":"#REF!"},{"$error":"#REF!"},{"$error":"#REF!"},{"$error":"#REF!"},{"$error":"#REF!"},{"$error":"#REF!"},{"$error":"#REF!"},{"$error":"#REF!"},{"$error":"#REF!"},{"$error":"#REF!"},{"$error":"#REF!"},{"$error":"#REF!"},{"$error":"#REF!"},{"$error":"#REF!"},{"$error":"#REF!"},{"$error":"#REF!"},{"$error":"#REF!"},{"$error":"#REF!"},{"$error":"#REF!"},{"$error":"#REF!"},{"$error":"#REF!"},{"$error":"#REF!"},{"$error":"#REF!"},{"$error":"#REF!"},{"$error":"#REF!"},{"$error":"#REF!"},{"$error":"#REF!"},{"$error":"#REF!"},{"$error":"#REF!"},{"$error":"#REF!"},{"$error":"#REF!"}]
["返済",{"$f":"IF(B4<=(B5*12),PMT(B3/12,B5*12,B6),\"\")","v":{"$error":"#REF!"}},{"$error":"#REF!"},{"$error":"#REF!"},{"$error":"#REF!"},{"$error":"#REF!"},{"$error":"#REF!"},{"$error":"#REF!"},{"$error":"#REF!"},{"$error":"#REF!"},{"$error":"#REF!"},{"$error":"#REF!"},{"$error":"#REF!"},{"$error":"#REF!"},{"$error":"#REF!"},{"$error":"#REF!"},{"$error":"#REF!"},{"$error":"#REF!"},{"$error":"#REF!"},{"$error":"#REF!"},{"$error":"#REF!"},{"$error":"#REF!"},{"$error":"#REF!"},{"$error":"#REF!"},{"$error":"#REF!"},{"$error":"#REF!"},{"$error":"#REF!"},{"$error":"#REF!"},{"$error":"#REF!"},{"$error":"#REF!"},{"$error":"#REF!"},{"$error":"#REF!"},{"$error":"#REF!"},{"$error":"#REF!"},{"$error":"#REF!"},{"$error":"#REF!"},{"$error":"#REF!"},{"$error":"#REF!"},{"$error":"#REF!"},{"$error":"#REF!"},{"$error":"#REF!"},{"$error":"#REF!"},{"$error":"#REF!"},{"$error":"#REF!"},{"$error":"#REF!"},{"$error":"#REF!"},{"$error":"#REF!"},{"$error":"#REF!"},{"$error":"#REF!"},{"$error":"#REF!"},{"$error":"#REF!"},{"$error":"#REF!"},{"$error":"#REF!"},{"$error":"#REF!"},{"$error":"#REF!"},{"$error":"#REF!"},{"$error":"#REF!"},{"$error":"#REF!"},{"$error":"#REF!"},{"$error":"#REF!"},{"$error":"#REF!"},{"$error":"#REF!"},{"$error":"#REF!"},{"$error":"#REF!"},{"$error":"#REF!"},{"$f":"IF(BN4<=(BN5*12),PMT(BN3/12,BN5*12,BN6),\"\")","v":{"$error":"#REF!"}},{"$error":"#REF!"},{"$error":"#REF!"},{"$error":"#REF!"},{"$error":"#REF!"},{"$error":"#REF!"},{"$error":"#REF!"},{"$error":"#REF!"},{"$error":"#REF!"},{"$error":"#REF!"},{"$error":"#REF!"},{"$error":"#REF!"},{"$error":"#REF!"},{"$error":"#REF!"},{"$error":"#REF!"},{"$error":"#REF!"},{"$error":"#REF!"},{"$error":"#REF!"},{"$error":"#REF!"},{"$error":"#REF!"},{"$error":"#REF!"},{"$error":"#REF!"},{"$error":"#REF!"},{"$error":"#REF!"},{"$error":"#REF!"},{"$error":"#REF!"},{"$error":"#REF!"},{"$error":"#REF!"},{"$error":"#REF!"},{"$error":"#REF!"},{"$error":"#REF!"},{"$error":"#REF!"},{"$error":"#REF!"},{"$error":"#REF!"},{"$error":"#REF!"},{"$error":"#REF!"},{"$error":"#REF!"},{"$error":"#REF!"},{"$error":"#REF!"},{"$error":"#REF!"},{"$error":"#REF!"},{"$error":"#REF!"},{"$error":"#REF!"},{"$error":"#REF!"},{"$error":"#REF!"},{"$error":"#REF!"},{"$error":"#REF!"},{"$error":"#REF!"},{"$error":"#REF!"},{"$error":"#REF!"},{"$error":"#REF!"},{"$error":"#REF!"},{"$error":"#REF!"},{"$error":"#REF!"},{"$error":"#REF!"},{"$error":"#REF!"},{"$error":"#REF!"},{"$error":"#REF!"},{"$error":"#REF!"},{"$error":"#REF!"},{"$error":"#REF!"},{"$error":"#REF!"},{"$error":"#REF!"},{"$error":"#REF!"},{"$f":"IF(DZ4<=(DZ5*12),PMT(DZ3/12,DZ5*12,DZ6),\"\")","v":{"$error":"#REF!"}},{"$error":"#REF!"},{"$error":"#REF!"},{"$error":"#REF!"},{"$error":"#REF!"},{"$error":"#REF!"},{"$error":"#REF!"},{"$error":"#REF!"},{"$error":"#REF!"},{"$error":"#REF!"},{"$error":"#REF!"},{"$error":"#REF!"},{"$error":"#REF!"},{"$error":"#REF!"},{"$error":"#REF!"},{"$error":"#REF!"},{"$error":"#REF!"},{"$error":"#REF!"},{"$error":"#REF!"},{"$error":"#REF!"},{"$error":"#REF!"},{"$error":"#REF!"},{"$error":"#REF!"},{"$error":"#REF!"},{"$error":"#REF!"},{"$error":"#REF!"},{"$error":"#REF!"},{"$error":"#REF!"},{"$error":"#REF!"},{"$error":"#REF!"},{"$error":"#REF!"},{"$error":"#REF!"},{"$error":"#REF!"},{"$error":"#REF!"},{"$error":"#REF!"},{"$error":"#REF!"},{"$error":"#REF!"},{"$error":"#REF!"},{"$error":"#REF!"},{"$error":"#REF!"},{"$error":"#REF!"},{"$error":"#REF!"},{"$error":"#REF!"},{"$error":"#REF!"},{"$error":"#REF!"},{"$error":"#REF!"},{"$error":"#REF!"},{"$error":"#REF!"},{"$error":"#REF!"},{"$error":"#REF!"},{"$error":"#REF!"},{"$error":"#REF!"},{"$error":"#REF!"},{"$error":"#REF!"},{"$error":"#REF!"},{"$error":"#REF!"},{"$error":"#REF!"},{"$error":"#REF!"},{"$error":"#REF!"},{"$error":"#REF!"},{"$error":"#REF!"},{"$error":"#REF!"},{"$error":"#REF!"},{"$error":"#REF!"},{"$f":"IF(GL4<=(GL5*12),PMT(GL3/12,GL5*12,GL6),\"\")","v":{"$error":"#REF!"}},{"$error":"#REF!"},{"$error":"#REF!"},{"$error":"#REF!"},{"$error":"#REF!"},{"$error":"#REF!"},{"$error":"#REF!"},{"$error":"#REF!"},{"$error":"#REF!"},{"$error":"#REF!"},{"$error":"#REF!"},{"$error":"#REF!"},{"$error":"#REF!"},{"$error":"#REF!"},{"$error":"#REF!"},{"$error":"#REF!"},{"$error":"#REF!"},{"$error":"#REF!"},{"$error":"#REF!"},{"$error":"#REF!"},{"$error":"#REF!"},{"$error":"#REF!"},{"$error":"#REF!"},{"$error":"#REF!"},{"$error":"#REF!"},{"$error":"#REF!"},{"$error":"#REF!"},{"$error":"#REF!"},{"$error":"#REF!"},{"$error":"#REF!"},{"$error":"#REF!"},{"$error":"#REF!"},{"$error":"#REF!"},{"$error":"#REF!"},{"$error":"#REF!"},{"$error":"#REF!"},{"$error":"#REF!"},{"$error":"#REF!"},{"$error":"#REF!"},{"$error":"#REF!"},{"$error":"#REF!"},{"$error":"#REF!"},{"$error":"#REF!"},{"$error":"#REF!"},{"$error":"#REF!"},{"$error":"#REF!"},{"$error":"#REF!"},{"$error":"#REF!"}]
["利息",{"$f":"IF(B4<=(B5*12),B10-B9,\"\")","v":{"$error":"#REF!"}},{"$error":"#REF!"},{"$error":"#REF!"},{"$error":"#REF!"},{"$error":"#REF!"},{"$error":"#REF!"},{"$error":"#REF!"},{"$error":"#REF!"},{"$error":"#REF!"},{"$error":"#REF!"},{"$error":"#REF!"},{"$error":"#REF!"},{"$error":"#REF!"},{"$error":"#REF!"},{"$error":"#REF!"},{"$error":"#REF!"},{"$error":"#REF!"},{"$error":"#REF!"},{"$error":"#REF!"},{"$error":"#REF!"},{"$error":"#REF!"},{"$error":"#REF!"},{"$error":"#REF!"},{"$error":"#REF!"},{"$error":"#REF!"},{"$error":"#REF!"},{"$error":"#REF!"},{"$error":"#REF!"},{"$error":"#REF!"},{"$error":"#REF!"},{"$error":"#REF!"},{"$error":"#REF!"},{"$error":"#REF!"},{"$error":"#REF!"},{"$error":"#REF!"},{"$error":"#REF!"},{"$error":"#REF!"},{"$error":"#REF!"},{"$error":"#REF!"},{"$error":"#REF!"},{"$error":"#REF!"},{"$error":"#REF!"},{"$error":"#REF!"},{"$error":"#REF!"},{"$error":"#REF!"},{"$error":"#REF!"},{"$error":"#REF!"},{"$error":"#REF!"},{"$error":"#REF!"},{"$error":"#REF!"},{"$error":"#REF!"},{"$error":"#REF!"},{"$error":"#REF!"},{"$error":"#REF!"},{"$error":"#REF!"},{"$error":"#REF!"},{"$error":"#REF!"},{"$error":"#REF!"},{"$error":"#REF!"},{"$error":"#REF!"},{"$error":"#REF!"},{"$error":"#REF!"},{"$error":"#REF!"},{"$error":"#REF!"},{"$f":"IF(BN4<=(BN5*12),BN10-BN9,\"\")","v":{"$error":"#REF!"}},{"$error":"#REF!"},{"$error":"#REF!"},{"$error":"#REF!"},{"$error":"#REF!"},{"$error":"#REF!"},{"$error":"#REF!"},{"$error":"#REF!"},{"$error":"#REF!"},{"$error":"#REF!"},{"$error":"#REF!"},{"$error":"#REF!"},{"$error":"#REF!"},{"$error":"#REF!"},{"$error":"#REF!"},{"$error":"#REF!"},{"$error":"#REF!"},{"$error":"#REF!"},{"$error":"#REF!"},{"$error":"#REF!"},{"$error":"#REF!"},{"$error":"#REF!"},{"$error":"#REF!"},{"$error":"#REF!"},{"$error":"#REF!"},{"$error":"#REF!"},{"$error":"#REF!"},{"$error":"#REF!"},{"$error":"#REF!"},{"$error":"#REF!"},{"$error":"#REF!"},{"$error":"#REF!"},{"$error":"#REF!"},{"$error":"#REF!"},{"$error":"#REF!"},{"$error":"#REF!"},{"$error":"#REF!"},{"$error":"#REF!"},{"$error":"#REF!"},{"$error":"#REF!"},{"$error":"#REF!"},{"$error":"#REF!"},{"$error":"#REF!"},{"$error":"#REF!"},{"$error":"#REF!"},{"$error":"#REF!"},{"$error":"#REF!"},{"$error":"#REF!"},{"$error":"#REF!"},{"$error":"#REF!"},{"$error":"#REF!"},{"$error":"#REF!"},{"$error":"#REF!"},{"$error":"#REF!"},{"$error":"#REF!"},{"$error":"#REF!"},{"$error":"#REF!"},{"$error":"#REF!"},{"$error":"#REF!"},{"$error":"#REF!"},{"$error":"#REF!"},{"$error":"#REF!"},{"$error":"#REF!"},{"$error":"#REF!"},{"$f":"IF(DZ4<=(DZ5*12),DZ10-DZ9,\"\")","v":{"$error":"#REF!"}},{"$error":"#REF!"},{"$error":"#REF!"},{"$error":"#REF!"},{"$error":"#REF!"},{"$error":"#REF!"},{"$error":"#REF!"},{"$error":"#REF!"},{"$error":"#REF!"},{"$error":"#REF!"},{"$error":"#REF!"},{"$error":"#REF!"},{"$error":"#REF!"},{"$error":"#REF!"},{"$error":"#REF!"},{"$error":"#REF!"},{"$error":"#REF!"},{"$error":"#REF!"},{"$error":"#REF!"},{"$error":"#REF!"},{"$error":"#REF!"},{"$error":"#REF!"},{"$error":"#REF!"},{"$error":"#REF!"},{"$error":"#REF!"},{"$error":"#REF!"},{"$error":"#REF!"},{"$error":"#REF!"},{"$error":"#REF!"},{"$error":"#REF!"},{"$error":"#REF!"},{"$error":"#REF!"},{"$error":"#REF!"},{"$error":"#REF!"},{"$error":"#REF!"},{"$error":"#REF!"},{"$error":"#REF!"},{"$error":"#REF!"},{"$error":"#REF!"},{"$error":"#REF!"},{"$error":"#REF!"},{"$error":"#REF!"},{"$error":"#REF!"},{"$error":"#REF!"},{"$error":"#REF!"},{"$error":"#REF!"},{"$error":"#REF!"},{"$error":"#REF!"},{"$error":"#REF!"},{"$error":"#REF!"},{"$error":"#REF!"},{"$error":"#REF!"},{"$error":"#REF!"},{"$error":"#REF!"},{"$error":"#REF!"},{"$error":"#REF!"},{"$error":"#REF!"},{"$error":"#REF!"},{"$error":"#REF!"},{"$error":"#REF!"},{"$error":"#REF!"},{"$error":"#REF!"},{"$error":"#REF!"},{"$error":"#REF!"},{"$f":"IF(GL4<=(GL5*12),GL10-GL9,\"\")","v":{"$error":"#REF!"}},{"$error":"#REF!"},{"$error":"#REF!"},{"$error":"#REF!"},{"$error":"#REF!"},{"$error":"#REF!"},{"$error":"#REF!"},{"$error":"#REF!"},{"$error":"#REF!"},{"$error":"#REF!"},{"$error":"#REF!"},{"$error":"#REF!"},{"$error":"#REF!"},{"$error":"#REF!"},{"$error":"#REF!"},{"$error":"#REF!"},{"$error":"#REF!"},{"$error":"#REF!"},{"$error":"#REF!"},{"$error":"#REF!"},{"$error":"#REF!"},{"$error":"#REF!"},{"$error":"#REF!"},{"$error":"#REF!"},{"$error":"#REF!"},{"$error":"#REF!"},{"$error":"#REF!"},{"$error":"#REF!"},{"$error":"#REF!"},{"$error":"#REF!"},{"$error":"#REF!"},{"$error":"#REF!"},{"$error":"#REF!"},{"$error":"#REF!"},{"$error":"#REF!"},{"$error":"#REF!"},{"$error":"#REF!"},{"$error":"#REF!"},{"$error":"#REF!"},{"$error":"#REF!"},{"$error":"#REF!"},{"$error":"#REF!"},{"$error":"#REF!"},{"$error":"#REF!"},{"$error":"#REF!"},{"$error":"#REF!"},{"$error":"#REF!"},{"$error":"#REF!"}]
[]
["元金",{"$f":"SUM(B9:M9)","v":{"$error":"#REF!"}},{"$f":"SUM(N9:Y9)","v":{"$error":"#REF!"}},{"$f":"SUM(Z9:AK9)","v":{"$error":"#REF!"}},{"$f":"SUM(AL9:AW9)","v":{"$error":"#REF!"}},{"$f":"SUM(AX9:BI9)","v":{"$error":"#REF!"}},{"$f":"SUM(BJ9:BU9)","v":{"$error":"#REF!"}},{"$f":"SUM(BV9:CG9)","v":{"$error":"#REF!"}},{"$f":"SUM(CH9:CS9)","v":{"$error":"#REF!"}},{"$f":"SUM(CT9:DE9)","v":{"$error":"#REF!"}},{"$f":"SUM(DF9:DQ9)","v":{"$error":"#REF!"}},{"$f":"SUM(DR9:EC9)","v":{"$error":"#REF!"}},{"$f":"SUM(ED9:EO9)","v":{"$error":"#REF!"}},{"$f":"SUM(EP9:FA9)","v":{"$error":"#REF!"}},{"$f":"SUM(FB9:FM9)","v":{"$error":"#REF!"}},{"$f":"SUM(FN9:FY9)","v":{"$error":"#REF!"}},{"$f":"SUM(FZ9:GK9)","v":{"$error":"#REF!"}},{"$f":"SUM(GL9:GW9)","v":{"$error":"#REF!"}},{"$f":"SUM(GX9:HI9)","v":{"$error":"#REF!"}},{"$f":"SUM(HJ9:HU9)","v":{"$error":"#REF!"}},{"$f":"SUM(HV9:IG9)","v":{"$error":"#REF!"}},{"$f":"SUM(B13:U13)","v":{"$error":"#REF!"}}]
["利息",{"$f":"SUM(B11:M11)","v":{"$error":"#REF!"}},{"$f":"SUM(N11:Y11)","v":{"$error":"#REF!"}},{"$f":"SUM(Z11:AK11)","v":{"$error":"#REF!"}},{"$f":"SUM(AL11:AW11)","v":{"$error":"#REF!"}},{"$f":"SUM(AX11:BI11)","v":{"$error":"#REF!"}},{"$f":"SUM(BJ11:BU11)","v":{"$error":"#REF!"}},{"$f":"SUM(BV11:CG11)","v":{"$error":"#REF!"}},{"$f":"SUM(CH11:CS11)","v":{"$error":"#REF!"}},{"$f":"SUM(CT11:DE11)","v":{"$error":"#REF!"}},{"$f":"SUM(DF11:DQ11)","v":{"$error":"#REF!"}},{"$f":"SUM(DR11:EC11)","v":{"$error":"#REF!"}},{"$f":"SUM(ED11:EO11)","v":{"$error":"#REF!"}},{"$f":"SUM(EP11:FA11)","v":{"$error":"#REF!"}},{"$f":"SUM(FB11:FM11)","v":{"$error":"#REF!"}},{"$f":"SUM(FN11:FY11)","v":{"$error":"#REF!"}},{"$f":"SUM(FZ11:GK11)","v":{"$error":"#REF!"}},{"$f":"SUM(GL11:GW11)","v":{"$error":"#REF!"}},{"$f":"SUM(GX11:HI11)","v":{"$error":"#REF!"}},{"$f":"SUM(HJ11:HU11)","v":{"$error":"#REF!"}},{"$f":"SUM(HV11:IG11)","v":{"$error":"#REF!"}},{"$f":"SUM(B14:U14)","v":{"$error":"#REF!"}}]
[]
[]
["■元金均等",1,2,3,4,5,6,7,8,9,10,11,12,13,14,15,16,17,18,19,20,21,22,23,24,25,26,27,28,29,30,31,32,33,34,35,36,37,38,39,40,41,42,43,44,45,46,47,48,49,50,51,52,53,54,55,56,57,58,59,60,61,62,63,64,65,66,67,68,69,70,71,72,73,74,75,76,77,78,79,80,81,82,83,84,85,86,87,88,89,90,91,92,93,94,95,96,97,98,99,100,101,102,103,104,105,106,107,108,109,110,111,112,113,114,115,116,117,118,119,120,121,122,123,124,125,126,127,128,129,130,131,132,133,134,135,136,137,138,139,140,141,142,143,144,145,146,147,148,149,150,151,152,153,154,155,156,157,158,159,160,161,162,163,164,165,166,167,168,169,170,171,172,173,174,175,176,177,178,179,180,181,182,183,184,185,186,187,188,189,190,191,192,193,194,195,196,197,198,199,200,201,202,203,204,205,206,207,208,209,210,211,212,213,214,215,216,217,218,219,220,221,222,223,224,225,226,227,228,229,230,231,232,233,234,235,236,237,238,239,240]
["元金",{"$f":"IF(B4<=(B5*12),-B6/(B5*12),\"\")","v":{"$error":"#REF!"}},{"$error":"#REF!"},{"$error":"#REF!"},{"$error":"#REF!"},{"$error":"#REF!"},{"$error":"#REF!"},{"$error":"#REF!"},{"$error":"#REF!"},{"$error":"#REF!"},{"$error":"#REF!"},{"$error":"#REF!"},{"$error":"#REF!"},{"$error":"#REF!"},{"$error":"#REF!"},{"$error":"#REF!"},{"$error":"#REF!"},{"$error":"#REF!"},{"$error":"#REF!"},{"$error":"#REF!"},{"$error":"#REF!"},{"$error":"#REF!"},{"$error":"#REF!"},{"$error":"#REF!"},{"$error":"#REF!"},{"$error":"#REF!"},{"$error":"#REF!"},{"$error":"#REF!"},{"$error":"#REF!"},{"$error":"#REF!"},{"$error":"#REF!"},{"$error":"#REF!"},{"$error":"#REF!"},{"$error":"#REF!"},{"$error":"#REF!"},{"$error":"#REF!"},{"$error":"#REF!"},{"$error":"#REF!"},{"$error":"#REF!"},{"$error":"#REF!"},{"$error":"#REF!"},{"$error":"#REF!"},{"$error":"#REF!"},{"$error":"#REF!"},{"$error":"#REF!"},{"$error":"#REF!"},{"$error":"#REF!"},{"$error":"#REF!"},{"$error":"#REF!"},{"$error":"#REF!"},{"$error":"#REF!"},{"$error":"#REF!"},{"$error":"#REF!"},{"$error":"#REF!"},{"$error":"#REF!"},{"$error":"#REF!"},{"$error":"#REF!"},{"$error":"#REF!"},{"$error":"#REF!"},{"$error":"#REF!"},{"$error":"#REF!"},{"$error":"#REF!"},{"$error":"#REF!"},{"$error":"#REF!"},{"$error":"#REF!"},{"$f":"IF(BN4<=(BN5*12),-BN6/(BN5*12),\"\")","v":{"$error":"#REF!"}},{"$error":"#REF!"},{"$error":"#REF!"},{"$error":"#REF!"},{"$error":"#REF!"},{"$error":"#REF!"},{"$error":"#REF!"},{"$error":"#REF!"},{"$error":"#REF!"},{"$error":"#REF!"},{"$error":"#REF!"},{"$error":"#REF!"},{"$error":"#REF!"},{"$error":"#REF!"},{"$error":"#REF!"},{"$error":"#REF!"},{"$error":"#REF!"},{"$error":"#REF!"},{"$error":"#REF!"},{"$error":"#REF!"},{"$error":"#REF!"},{"$error":"#REF!"},{"$error":"#REF!"},{"$error":"#REF!"},{"$error":"#REF!"},{"$error":"#REF!"},{"$error":"#REF!"},{"$error":"#REF!"},{"$error":"#REF!"},{"$error":"#REF!"},{"$error":"#REF!"},{"$error":"#REF!"},{"$error":"#REF!"},{"$error":"#REF!"},{"$error":"#REF!"},{"$error":"#REF!"},{"$error":"#REF!"},{"$error":"#REF!"},{"$error":"#REF!"},{"$error":"#REF!"},{"$error":"#REF!"},{"$error":"#REF!"},{"$error":"#REF!"},{"$error":"#REF!"},{"$error":"#REF!"},{"$error":"#REF!"},{"$error":"#REF!"},{"$error":"#REF!"},{"$error":"#REF!"},{"$error":"#REF!"},{"$error":"#REF!"},{"$error":"#REF!"},{"$error":"#REF!"},{"$error":"#REF!"},{"$error":"#REF!"},{"$error":"#REF!"},{"$error":"#REF!"},{"$error":"#REF!"},{"$error":"#REF!"},{"$error":"#REF!"},{"$error":"#REF!"},{"$error":"#REF!"},{"$error":"#REF!"},{"$error":"#REF!"},{"$f":"IF(DZ4<=(DZ5*12),-DZ6/(DZ5*12),\"\")","v":{"$error":"#REF!"}},{"$error":"#REF!"},{"$error":"#REF!"},{"$error":"#REF!"},{"$error":"#REF!"},{"$error":"#REF!"},{"$error":"#REF!"},{"$error":"#REF!"},{"$error":"#REF!"},{"$error":"#REF!"},{"$error":"#REF!"},{"$error":"#REF!"},{"$error":"#REF!"},{"$error":"#REF!"},{"$error":"#REF!"},{"$error":"#REF!"},{"$error":"#REF!"},{"$error":"#REF!"},{"$error":"#REF!"},{"$error":"#REF!"},{"$error":"#REF!"},{"$error":"#REF!"},{"$error":"#REF!"},{"$error":"#REF!"},{"$error":"#REF!"},{"$error":"#REF!"},{"$error":"#REF!"},{"$error":"#REF!"},{"$error":"#REF!"},{"$error":"#REF!"},{"$error":"#REF!"},{"$error":"#REF!"},{"$error":"#REF!"},{"$error":"#REF!"},{"$error":"#REF!"},{"$error":"#REF!"},{"$error":"#REF!"},{"$error":"#REF!"},{"$error":"#REF!"},{"$error":"#REF!"},{"$error":"#REF!"},{"$error":"#REF!"},{"$error":"#REF!"},{"$error":"#REF!"},{"$error":"#REF!"},{"$error":"#REF!"},{"$error":"#REF!"},{"$error":"#REF!"},{"$error":"#REF!"},{"$error":"#REF!"},{"$error":"#REF!"},{"$error":"#REF!"},{"$error":"#REF!"},{"$error":"#REF!"},{"$error":"#REF!"},{"$error":"#REF!"},{"$error":"#REF!"},{"$error":"#REF!"},{"$error":"#REF!"},{"$error":"#REF!"},{"$error":"#REF!"},{"$error":"#REF!"},{"$error":"#REF!"},{"$error":"#REF!"},{"$f":"IF(GL4<=(GL5*12),-GL6/(GL5*12),\"\")","v":{"$error":"#REF!"}},{"$error":"#REF!"},{"$error":"#REF!"},{"$error":"#REF!"},{"$error":"#REF!"},{"$error":"#REF!"},{"$error":"#REF!"},{"$error":"#REF!"},{"$error":"#REF!"},{"$error":"#REF!"},{"$error":"#REF!"},{"$error":"#REF!"},{"$error":"#REF!"},{"$error":"#REF!"},{"$error":"#REF!"},{"$error":"#REF!"},{"$error":"#REF!"},{"$error":"#REF!"},{"$error":"#REF!"},{"$error":"#REF!"},{"$error":"#REF!"},{"$error":"#REF!"},{"$error":"#REF!"},{"$error":"#REF!"},{"$error":"#REF!"},{"$error":"#REF!"},{"$error":"#REF!"},{"$error":"#REF!"},{"$error":"#REF!"},{"$error":"#REF!"},{"$error":"#REF!"},{"$error":"#REF!"},{"$error":"#REF!"},{"$error":"#REF!"},{"$error":"#REF!"},{"$error":"#REF!"},{"$error":"#REF!"},{"$error":"#REF!"},{"$error":"#REF!"},{"$error":"#REF!"},{"$error":"#REF!"},{"$error":"#REF!"},{"$error":"#REF!"},{"$error":"#REF!"},{"$error":"#REF!"},{"$error":"#REF!"},{"$error":"#REF!"},{"$error":"#REF!"}]
["返済",{"$f":"IF(B4<=(B5*12),B18+B20,\"\")","v":{"$error":"#REF!"}},{"$error":"#REF!"},{"$error":"#REF!"},{"$error":"#REF!"},{"$error":"#REF!"},{"$error":"#REF!"},{"$error":"#REF!"},{"$error":"#REF!"},{"$error":"#REF!"},{"$error":"#REF!"},{"$error":"#REF!"},{"$error":"#REF!"},{"$error":"#REF!"},{"$error":"#REF!"},{"$error":"#REF!"},{"$error":"#REF!"},{"$error":"#REF!"},{"$error":"#REF!"},{"$error":"#REF!"},{"$error":"#REF!"},{"$error":"#REF!"},{"$error":"#REF!"},{"$error":"#REF!"},{"$error":"#REF!"},{"$error":"#REF!"},{"$error":"#REF!"},{"$error":"#REF!"},{"$error":"#REF!"},{"$error":"#REF!"},{"$error":"#REF!"},{"$error":"#REF!"},{"$error":"#REF!"},{"$error":"#REF!"},{"$error":"#REF!"},{"$error":"#REF!"},{"$error":"#REF!"},{"$error":"#REF!"},{"$error":"#REF!"},{"$error":"#REF!"},{"$error":"#REF!"},{"$error":"#REF!"},{"$error":"#REF!"},{"$error":"#REF!"},{"$error":"#REF!"},{"$error":"#REF!"},{"$error":"#REF!"},{"$error":"#REF!"},{"$error":"#REF!"},{"$error":"#REF!"},{"$error":"#REF!"},{"$error":"#REF!"},{"$error":"#REF!"},{"$error":"#REF!"},{"$error":"#REF!"},{"$error":"#REF!"},{"$error":"#REF!"},{"$error":"#REF!"},{"$error":"#REF!"},{"$error":"#REF!"},{"$error":"#REF!"},{"$error":"#REF!"},{"$error":"#REF!"},{"$error":"#REF!"},{"$error":"#REF!"},{"$f":"IF(BN4<=(BN5*12),BN18+BN20,\"\")","v":{"$error":"#REF!"}},{"$error":"#REF!"},{"$error":"#REF!"},{"$error":"#REF!"},{"$error":"#REF!"},{"$error":"#REF!"},{"$error":"#REF!"},{"$error":"#REF!"},{"$error":"#REF!"},{"$error":"#REF!"},{"$error":"#REF!"},{"$error":"#REF!"},{"$error":"#REF!"},{"$error":"#REF!"},{"$error":"#REF!"},{"$error":"#REF!"},{"$error":"#REF!"},{"$error":"#REF!"},{"$error":"#REF!"},{"$error":"#REF!"},{"$error":"#REF!"},{"$error":"#REF!"},{"$error":"#REF!"},{"$error":"#REF!"},{"$error":"#REF!"},{"$error":"#REF!"},{"$error":"#REF!"},{"$error":"#REF!"},{"$error":"#REF!"},{"$error":"#REF!"},{"$error":"#REF!"},{"$error":"#REF!"},{"$error":"#REF!"},{"$error":"#REF!"},{"$error":"#REF!"},{"$error":"#REF!"},{"$error":"#REF!"},{"$error":"#REF!"},{"$error":"#REF!"},{"$error":"#REF!"},{"$error":"#REF!"},{"$error":"#REF!"},{"$error":"#REF!"},{"$error":"#REF!"},{"$error":"#REF!"},{"$error":"#REF!"},{"$error":"#REF!"},{"$error":"#REF!"},{"$error":"#REF!"},{"$error":"#REF!"},{"$error":"#REF!"},{"$error":"#REF!"},{"$error":"#REF!"},{"$error":"#REF!"},{"$error":"#REF!"},{"$error":"#REF!"},{"$error":"#REF!"},{"$error":"#REF!"},{"$error":"#REF!"},{"$error":"#REF!"},{"$error":"#REF!"},{"$error":"#REF!"},{"$error":"#REF!"},{"$error":"#REF!"},{"$f":"IF(DZ4<=(DZ5*12),DZ18+DZ20,\"\")","v":{"$error":"#REF!"}},{"$error":"#REF!"},{"$error":"#REF!"},{"$error":"#REF!"},{"$error":"#REF!"},{"$error":"#REF!"},{"$error":"#REF!"},{"$error":"#REF!"},{"$error":"#REF!"},{"$error":"#REF!"},{"$error":"#REF!"},{"$error":"#REF!"},{"$error":"#REF!"},{"$error":"#REF!"},{"$error":"#REF!"},{"$error":"#REF!"},{"$error":"#REF!"},{"$error":"#REF!"},{"$error":"#REF!"},{"$error":"#REF!"},{"$error":"#REF!"},{"$error":"#REF!"},{"$error":"#REF!"},{"$error":"#REF!"},{"$error":"#REF!"},{"$error":"#REF!"},{"$error":"#REF!"},{"$error":"#REF!"},{"$error":"#REF!"},{"$error":"#REF!"},{"$error":"#REF!"},{"$error":"#REF!"},{"$error":"#REF!"},{"$error":"#REF!"},{"$error":"#REF!"},{"$error":"#REF!"},{"$error":"#REF!"},{"$error":"#REF!"},{"$error":"#REF!"},{"$error":"#REF!"},{"$error":"#REF!"},{"$error":"#REF!"},{"$error":"#REF!"},{"$error":"#REF!"},{"$error":"#REF!"},{"$error":"#REF!"},{"$error":"#REF!"},{"$error":"#REF!"},{"$error":"#REF!"},{"$error":"#REF!"},{"$error":"#REF!"},{"$error":"#REF!"},{"$error":"#REF!"},{"$error":"#REF!"},{"$error":"#REF!"},{"$error":"#REF!"},{"$error":"#REF!"},{"$error":"#REF!"},{"$error":"#REF!"},{"$error":"#REF!"},{"$error":"#REF!"},{"$error":"#REF!"},{"$error":"#REF!"},{"$error":"#REF!"},{"$f":"IF(GL4<=(GL5*12),GL18+GL20,\"\")","v":{"$error":"#REF!"}},{"$error":"#REF!"},{"$error":"#REF!"},{"$error":"#REF!"},{"$error":"#REF!"},{"$error":"#REF!"},{"$error":"#REF!"},{"$error":"#REF!"},{"$error":"#REF!"},{"$error":"#REF!"},{"$error":"#REF!"},{"$error":"#REF!"},{"$error":"#REF!"},{"$error":"#REF!"},{"$error":"#REF!"},{"$error":"#REF!"},{"$error":"#REF!"},{"$error":"#REF!"},{"$error":"#REF!"},{"$error":"#REF!"},{"$error":"#REF!"},{"$error":"#REF!"},{"$error":"#REF!"},{"$error":"#REF!"},{"$error":"#REF!"},{"$error":"#REF!"},{"$error":"#REF!"},{"$error":"#REF!"},{"$error":"#REF!"},{"$error":"#REF!"},{"$error":"#REF!"},{"$error":"#REF!"},{"$error":"#REF!"},{"$error":"#REF!"},{"$error":"#REF!"},{"$error":"#REF!"},{"$error":"#REF!"},{"$error":"#REF!"},{"$error":"#REF!"},{"$error":"#REF!"},{"$error":"#REF!"},{"$error":"#REF!"},{"$error":"#REF!"},{"$error":"#REF!"},{"$error":"#REF!"},{"$error":"#REF!"},{"$error":"#REF!"},{"$error":"#REF!"}]
["利息",{"$f":"IF(B4<=(B5*12),ISPMT(B3/12,B4,B5*12,B6),\"\")","v":{"$error":"#REF!"}},{"$error":"#REF!"},{"$error":"#REF!"},{"$error":"#REF!"},{"$error":"#REF!"},{"$error":"#REF!"},{"$error":"#REF!"},{"$error":"#REF!"},{"$error":"#REF!"},{"$error":"#REF!"},{"$error":"#REF!"},{"$error":"#REF!"},{"$error":"#REF!"},{"$error":"#REF!"},{"$error":"#REF!"},{"$error":"#REF!"},{"$error":"#REF!"},{"$error":"#REF!"},{"$error":"#REF!"},{"$error":"#REF!"},{"$error":"#REF!"},{"$error":"#REF!"},{"$error":"#REF!"},{"$error":"#REF!"},{"$error":"#REF!"},{"$error":"#REF!"},{"$error":"#REF!"},{"$error":"#REF!"},{"$error":"#REF!"},{"$error":"#REF!"},{"$error":"#REF!"},{"$error":"#REF!"},{"$error":"#REF!"},{"$error":"#REF!"},{"$error":"#REF!"},{"$error":"#REF!"},{"$error":"#REF!"},{"$error":"#REF!"},{"$error":"#REF!"},{"$error":"#REF!"},{"$error":"#REF!"},{"$error":"#REF!"},{"$error":"#REF!"},{"$error":"#REF!"},{"$error":"#REF!"},{"$error":"#REF!"},{"$error":"#REF!"},{"$error":"#REF!"},{"$error":"#REF!"},{"$error":"#REF!"},{"$error":"#REF!"},{"$error":"#REF!"},{"$error":"#REF!"},{"$error":"#REF!"},{"$error":"#REF!"},{"$error":"#REF!"},{"$error":"#REF!"},{"$error":"#REF!"},{"$error":"#REF!"},{"$error":"#REF!"},{"$error":"#REF!"},{"$error":"#REF!"},{"$error":"#REF!"},{"$error":"#REF!"},{"$f":"IF(BN4<=(BN5*12),ISPMT(BN3/12,BN4,BN5*12,BN6),\"\")","v":{"$error":"#REF!"}},{"$error":"#REF!"},{"$error":"#REF!"},{"$error":"#REF!"},{"$error":"#REF!"},{"$error":"#REF!"},{"$error":"#REF!"},{"$error":"#REF!"},{"$error":"#REF!"},{"$error":"#REF!"},{"$error":"#REF!"},{"$error":"#REF!"},{"$error":"#REF!"},{"$error":"#REF!"},{"$error":"#REF!"},{"$error":"#REF!"},{"$error":"#REF!"},{"$error":"#REF!"},{"$error":"#REF!"},{"$error":"#REF!"},{"$error":"#REF!"},{"$error":"#REF!"},{"$error":"#REF!"},{"$error":"#REF!"},{"$error":"#REF!"},{"$error":"#REF!"},{"$error":"#REF!"},{"$error":"#REF!"},{"$error":"#REF!"},{"$error":"#REF!"},{"$error":"#REF!"},{"$error":"#REF!"},{"$error":"#REF!"},{"$error":"#REF!"},{"$error":"#REF!"},{"$error":"#REF!"},{"$error":"#REF!"},{"$error":"#REF!"},{"$error":"#REF!"},{"$error":"#REF!"},{"$error":"#REF!"},{"$error":"#REF!"},{"$error":"#REF!"},{"$error":"#REF!"},{"$error":"#REF!"},{"$error":"#REF!"},{"$error":"#REF!"},{"$error":"#REF!"},{"$error":"#REF!"},{"$error":"#REF!"},{"$error":"#REF!"},{"$error":"#REF!"},{"$error":"#REF!"},{"$error":"#REF!"},{"$error":"#REF!"},{"$error":"#REF!"},{"$error":"#REF!"},{"$error":"#REF!"},{"$error":"#REF!"},{"$error":"#REF!"},{"$error":"#REF!"},{"$error":"#REF!"},{"$error":"#REF!"},{"$error":"#REF!"},{"$f":"IF(DZ4<=(DZ5*12),ISPMT(DZ3/12,DZ4,DZ5*12,DZ6),\"\")","v":{"$error":"#REF!"}},{"$error":"#REF!"},{"$error":"#REF!"},{"$error":"#REF!"},{"$error":"#REF!"},{"$error":"#REF!"},{"$error":"#REF!"},{"$error":"#REF!"},{"$error":"#REF!"},{"$error":"#REF!"},{"$error":"#REF!"},{"$error":"#REF!"},{"$error":"#REF!"},{"$error":"#REF!"},{"$error":"#REF!"},{"$error":"#REF!"},{"$error":"#REF!"},{"$error":"#REF!"},{"$error":"#REF!"},{"$error":"#REF!"},{"$error":"#REF!"},{"$error":"#REF!"},{"$error":"#REF!"},{"$error":"#REF!"},{"$error":"#REF!"},{"$error":"#REF!"},{"$error":"#REF!"},{"$error":"#REF!"},{"$error":"#REF!"},{"$error":"#REF!"},{"$error":"#REF!"},{"$error":"#REF!"},{"$error":"#REF!"},{"$error":"#REF!"},{"$error":"#REF!"},{"$error":"#REF!"},{"$error":"#REF!"},{"$error":"#REF!"},{"$error":"#REF!"},{"$error":"#REF!"},{"$error":"#REF!"},{"$error":"#REF!"},{"$error":"#REF!"},{"$error":"#REF!"},{"$error":"#REF!"},{"$error":"#REF!"},{"$error":"#REF!"},{"$error":"#REF!"},{"$error":"#REF!"},{"$error":"#REF!"},{"$error":"#REF!"},{"$error":"#REF!"},{"$error":"#REF!"},{"$error":"#REF!"},{"$error":"#REF!"},{"$error":"#REF!"},{"$error":"#REF!"},{"$error":"#REF!"},{"$error":"#REF!"},{"$error":"#REF!"},{"$error":"#REF!"},{"$error":"#REF!"},{"$error":"#REF!"},{"$error":"#REF!"},{"$f":"IF(GL4<=(GL5*12),ISPMT(GL3/12,GL4,GL5*12,GL6),\"\")","v":{"$error":"#REF!"}},{"$error":"#REF!"},{"$error":"#REF!"},{"$error":"#REF!"},{"$error":"#REF!"},{"$error":"#REF!"},{"$error":"#REF!"},{"$error":"#REF!"},{"$error":"#REF!"},{"$error":"#REF!"},{"$error":"#REF!"},{"$error":"#REF!"},{"$error":"#REF!"},{"$error":"#REF!"},{"$error":"#REF!"},{"$error":"#REF!"},{"$error":"#REF!"},{"$error":"#REF!"},{"$error":"#REF!"},{"$error":"#REF!"},{"$error":"#REF!"},{"$error":"#REF!"},{"$error":"#REF!"},{"$error":"#REF!"},{"$error":"#REF!"},{"$error":"#REF!"},{"$error":"#REF!"},{"$error":"#REF!"},{"$error":"#REF!"},{"$error":"#REF!"},{"$error":"#REF!"},{"$error":"#REF!"},{"$error":"#REF!"},{"$error":"#REF!"},{"$error":"#REF!"},{"$error":"#REF!"},{"$error":"#REF!"},{"$error":"#REF!"},{"$error":"#REF!"},{"$error":"#REF!"},{"$error":"#REF!"},{"$error":"#REF!"},{"$error":"#REF!"},{"$error":"#REF!"},{"$error":"#REF!"},{"$error":"#REF!"},{"$error":"#REF!"},{"$error":"#REF!"}]
[]
["元金",{"$f":"SUM(B18:M18)","v":{"$error":"#REF!"}},{"$f":"SUM(N18:Y18)","v":{"$error":"#REF!"}},{"$f":"SUM(Z18:AK18)","v":{"$error":"#REF!"}},{"$f":"SUM(AL18:AW18)","v":{"$error":"#REF!"}},{"$f":"SUM(AX18:BI18)","v":{"$error":"#REF!"}},{"$f":"SUM(BJ18:BU18)","v":{"$error":"#REF!"}},{"$f":"SUM(BV18:CG18)","v":{"$error":"#REF!"}},{"$f":"SUM(CH18:CS18)","v":{"$error":"#REF!"}},{"$f":"SUM(CT18:DE18)","v":{"$error":"#REF!"}},{"$f":"SUM(DF18:DQ18)","v":{"$error":"#REF!"}},{"$f":"SUM(DR18:EC18)","v":{"$error":"#REF!"}},{"$f":"SUM(ED18:EO18)","v":{"$error":"#REF!"}},{"$f":"SUM(EP18:FA18)","v":{"$error":"#REF!"}},{"$f":"SUM(FB18:FM18)","v":{"$error":"#REF!"}},{"$f":"SUM(FN18:FY18)","v":{"$error":"#REF!"}},{"$f":"SUM(FZ18:GK18)","v":{"$error":"#REF!"}},{"$f":"SUM(GL18:GW18)","v":{"$error":"#REF!"}},{"$f":"SUM(GX18:HI18)","v":{"$error":"#REF!"}},{"$f":"SUM(HJ18:HU18)","v":{"$error":"#REF!"}},{"$f":"SUM(HV18:IG18)","v":{"$error":"#REF!"}},{"$f":"SUM(B22:U22)","v":{"$error":"#REF!"}}]
["利息",{"$f":"SUM(B20:M20)","v":{"$error":"#REF!"}},{"$f":"SUM(N20:Y20)","v":{"$error":"#REF!"}},{"$f":"SUM(Z20:AK20)","v":{"$error":"#REF!"}},{"$f":"SUM(AL20:AW20)","v":{"$error":"#REF!"}},{"$f":"SUM(AX20:BI20)","v":{"$error":"#REF!"}},{"$f":"SUM(BJ20:BU20)","v":{"$error":"#REF!"}},{"$f":"SUM(BV20:CG20)","v":{"$error":"#REF!"}},{"$f":"SUM(CH20:CS20)","v":{"$error":"#REF!"}},{"$f":"SUM(CT20:DE20)","v":{"$error":"#REF!"}},{"$f":"SUM(DF20:DQ20)","v":{"$error":"#REF!"}},{"$f":"SUM(DR20:EC20)","v":{"$error":"#REF!"}},{"$f":"SUM(ED20:EO20)","v":{"$error":"#REF!"}},{"$f":"SUM(EP20:FA20)","v":{"$error":"#REF!"}},{"$f":"SUM(FB20:FM20)","v":{"$error":"#REF!"}},{"$f":"SUM(FN20:FY20)","v":{"$error":"#REF!"}},{"$f":"SUM(FZ20:GK20)","v":{"$error":"#REF!"}},{"$f":"SUM(GL20:GW20)","v":{"$error":"#REF!"}},{"$f":"SUM(GX20:HI20)","v":{"$error":"#REF!"}},{"$f":"SUM(HJ20:HU20)","v":{"$error":"#REF!"}},{"$f":"SUM(HV20:IG20)","v":{"$error":"#REF!"}},{"$f":"SUM(B23:U23)","v":{"$error":"#REF!"}}]
[]
[]
["投資回収",{"$f":"COUNTIF(プレゼンｼｰﾄ!E32:X32,\"<0\")","v":0}]

{"sheet":"プレゼンｼｰﾄ","index":4,"n_rows":42,"n_cols":24,"rows_kept":42,"cut":false,"hidden":false,"merged":[[7,9,8,11],[9,9,10,11],[9,2,10,4],[22,1,22,2],[23,1,23,2],[24,1,24,2],[41,1,41,13],[7,12,8,12],[9,12,10,12],[11,12,12,12],[13,12,14,12],[7,13,8,13],[9,13,10,13],[11,13,12,13],[13,13,14,13],[14,2,15,3],[11,2,12,4],[11,9,12,11],[13,9,14,11],[11,5,12,5],[9,6,10,6],[11,6,12,6],[20,1,20,2],[21,1,21,2],[33,1,33,5],[32,2,32,14],[0,0,0,25],[2,2,2,6],[2,9,2,13],[3,2,3,4],[3,9,3,11],[4,2,4,4],[4,9,4,11],[5,2,5,4],[5,9,5,11],[6,2,6,4],[7,2,7,4],[17,11,17,13],[18,11,18,13],[9,5,10,5]]}
["発電事業収支シミュレーションⅡ"]
[]
[null,null,"設備関連",null,null,null,null,null,null,"コスト関連"]
[null,null,{"$f":"入力ｼｰﾄ!B4","v":"設置枚数"},null,null,{"$f":"入力ｼｰﾄ!D4","v":100},{"$f":"入力ｼｰﾄ!E4","v":"枚"},null,null,"イニシャルコスト",null,null,{"$f":"入力ｼｰﾄ!D13/10000","v":932.5},"万円（税抜）"]
[null,null,{"$f":"入力ｼｰﾄ!B3","v":"モジュール最大出力"},null,null,{"$f":"入力ｼｰﾄ!D3","v":250},{"$f":"入力ｼｰﾄ!E3","v":"w"},null,null,"売電単価(税抜)※2",null,null,{"$f":"入力ｼｰﾄ!D9","v":32},{"$f":"入力ｼｰﾄ!E8","v":"円／kWh"}]
[null,null,{"$f":"入力ｼｰﾄ!B5","v":"システム容量"},null,null,{"$f":"入力ｼｰﾄ!D5","v":25},{"$f":"入力ｼｰﾄ!E5","v":"kWh"},null,null,"Co2削減 ※3",null,null,{"$f":"F8*0.413","v":12906.25},"t-co2"]
[null,null,"年間１Kwの発電係数※1",null,null,{"$f":"入力ｼｰﾄ!D6","v":1250},{"$f":"入力ｼｰﾄ!E6","v":"kWh／年"}]
[null,null,{"$f":"入力ｼｰﾄ!B7","v":"想定年間発電量"},null,null,{"$f":"入力ｼｰﾄ!D7","v":31250},{"$f":"入力ｼｰﾄ!E7","v":"kWh／年"},null,null,"20年間の総発電量",null,null,{"$f":"(F8*20)/1000","v":625},"MWh"]
[]
[null,null,"1年間の総発電量",null,null,{"$f":"入力ｼｰﾄ!D7/1000","v":31.25},"kwh",null,null,"20年間売電金額",null,null,{"$f":"((M8*1000)*入力ｼｰﾄ!D9)/10000","v":2000},"万円"]
[]
[null,null,"1年間の売電金額",null,null,{"$f":"((F10*1000)*入力ｼｰﾄ!D9)/10000","v":100},"万円",null,null,"イニシャルコスト",null,null,{"$f":"入力ｼｰﾄ!D13/10000","v":932.5},"万円"]
[]
[null,null,null,null,null,null,null,null,null,"20年間の売電利益",null,null,{"$f":"M10-M12","v":1067.5},"万円"]
[null,null,{"$f":"M4/F12","v":9.3249999999999993}]
[null,null,null,null,"年以内で投資回収が可能と試算されます。"]
[]
[]
[null,null,null,null,null,null,null,null,null,null,null,"※下記計算表はパネルのロス率を含んだ計算"]
[null,null,null,"設置時点","1年目","2年目","3年目","4年目","5年目","6年目","7年目","8年目","9年目","10年目"]
[null,"総発電量(kWh)",null,0,{"$f":"(F8*入力ｼｰﾄ!D21)/100","v":31171.875},{"$f":"(E21*入力ｼｰﾄ!D21)/100","v":31093.9453125},{"$f":"(F21*入力ｼｰﾄ!D21)/100","v":31016.21044921875},{"$f":"(G21*入力ｼｰﾄ!D21)/100","v":30938.669923095702},{"$f":"(H21*入力ｼｰﾄ!D21)/100","v":30861.323248287961},{"$f":"(I21*入力ｼｰﾄ!D21)/100","v":30784.169940167241},{"$f":"(J21*入力ｼｰﾄ!D21)/100","v":30707.209515316823},{"$f":"(K21*入力ｼｰﾄ!D21)/100","v":30630.441491528531},{"$f":"(L21*入力ｼｰﾄ!D21)/100","v":30553.865387799706},{"$f":"(M21*入力ｼｰﾄ!D21)/100","v":30477.480724330206}]
[null,"売電価格（年間）",null,0,{"$f":"E21*入力ｼｰﾄ!D9","v":997500},{"$f":"F21*入力ｼｰﾄ!D9","v":995006.25},{"$f":"G21*入力ｼｰﾄ!D9","v":992518.734375},{"$f":"H21*入力ｼｰﾄ!D9","v":990037.43753906246},{"$f":"I21*入力ｼｰﾄ!D9","v":987562.34394521476},{"$f":"J21*入力ｼｰﾄ!D9","v":985093.43808535172},{"$f":"K21*入力ｼｰﾄ!D9","v":982630.70449013833},{"$f":"L21*入力ｼｰﾄ!D9","v":980174.12772891298},{"$f":"M21*入力ｼｰﾄ!D9","v":977723.69240959059},{"$f":"N21*入力ｼｰﾄ!D9","v":975279.38317856658}]
[null,"イニシャルコスト",null,{"$f":"(M4*-1)*10000","v":-9325000},{"$f":"D23+E22","v":-8327500},-7332493.75,-6339975.015625,-5349937.5780859375,-4362375.234140723,-3377281.7960553714,-2394651.0915652332,-1414476.9638363202,-436753.27142672963,538526.11175183696]
[null,"均等割コスト※4",null,{"$f":"M4*10000","v":9325000},{"$f":"D24/17","v":548529.4117647059},{"$f":"D24/17","v":548529.4117647059},{"$f":"D24/17","v":548529.4117647059},{"$f":"D24/17","v":548529.4117647059},{"$f":"D24/17","v":548529.4117647059},{"$f":"D24/17","v":548529.4117647059},{"$f":"D24/17","v":548529.4117647059},{"$f":"D24/17","v":548529.4117647059},{"$f":"D24/17","v":548529.4117647059},{"$f":"D24/17","v":548529.4117647059}]
[null,"年間利益",null,null,{"$f":"E22-E24","v":448970.5882352941},446476.8382352941,443989.3226102941,441508.02577435656,439032.93218050885,436564.02632064582,434101.29272543243,431644.71596420708,429194.28064488468,426749.97141386068]
[]
[null,null,null,null,"11年目","12年目","13年目","14年目","15年目","16年目","17年目","18年目","19年目","20年目"]
[null,null,null,null,{"$f":"(N21*入力ｼｰﾄ!D21)/100","v":30401.28702251938},{"$f":"(E28*入力ｼｰﾄ!D21)/100","v":30325.283804963081},{"$f":"(F28*入力ｼｰﾄ!D21)/100","v":30249.470595450672},{"$f":"(G28*入力ｼｰﾄ!D21)/100","v":30173.846918962045},{"$f":"(H28*入力ｼｰﾄ!D21)/100","v":30098.412301664641},{"$f":"(I28*入力ｼｰﾄ!D21)/100","v":30023.166270910478},{"$f":"(J28*入力ｼｰﾄ!D21)/100","v":29948.108355233202},{"$f":"(K28*入力ｼｰﾄ!D21)/100","v":29873.238084345121},{"$f":"(L28*入力ｼｰﾄ!D21)/100","v":29798.55498913426},{"$f":"(M28*入力ｼｰﾄ!D21)/100","v":29724.058601661422}]
[null,null,null,null,{"$f":"E28*入力ｼｰﾄ!D9","v":972841.18472062016},{"$f":"F28*入力ｼｰﾄ!D9","v":970409.08175881859},{"$f":"G28*入力ｼｰﾄ!D9","v":967983.05905442149},{"$f":"H28*入力ｼｰﾄ!D9","v":965563.10140678543},{"$f":"I28*入力ｼｰﾄ!D9","v":963149.19365326851},{"$f":"J28*入力ｼｰﾄ!D9","v":960741.32066913531},{"$f":"K28*入力ｼｰﾄ!D9","v":958339.46736746246},{"$f":"L28*入力ｼｰﾄ!D9","v":955943.61869904387},{"$f":"M28*入力ｼｰﾄ!D9","v":953553.75965229631},{"$f":"N28*入力ｼｰﾄ!D9","v":951169.87525316549},"11年目","12年目","13年目","14年目","15年目","16年目","17年目","18年目","19年目","20年目"]
[null,null,null,null,{"$f":"N23+E29","v":1511367.2964724572},{"$f":"E30+F29","v":2481776.3782312758},3449759.4372856971,4415322.5386924827,5378471.7323457515,6339213.0530148866,7297552.5203823494,8253496.1390813934,9207049.8987336904,10158219.773986856,{"$f":"#REF!/1000","v":{"$error":"#REF!"}},{"$error":"#REF!"},{"$error":"#REF!"},{"$error":"#REF!"},{"$error":"#REF!"},{"$error":"#REF!"},{"$error":"#REF!"},{"$error":"#REF!"},{"$error":"#REF!"},{"$error":"#REF!"}]
[null,null,null,null,{"$f":"D24/17","v":548529.4117647059},{"$f":"D24/17","v":548529.4117647059},{"$f":"D24/17","v":548529.4117647059},{"$f":"D24/17","v":548529.4117647059},{"$f":"D24/17","v":548529.4117647059},{"$f":"D24/17","v":548529.4117647059},{"$f":"D24/17","v":548529.4117647059},0,0,0,{"$error":"#REF!"},{"$error":"#REF!"},{"$error":"#REF!"},{"$error":"#REF!"},{"$error":"#REF!"},{"$error":"#REF!"},{"$error":"#REF!"},{"$error":"#REF!"},{"$error":"#REF!"},{"$error":"#REF!"}]
[null,null,null,null,{"$f":"E29-E31","v":424311.77295591426},421879.66999411269,419453.64728971559,417033.68964207952,414619.7818885626,412211.90890442941,409810.05560275656,{"$f":"L29","v":955943.61869904387},{"$f":"M29","v":953553.75965229631},{"$f":"N29","v":951169.87525316549},{"$f":"N23+O31","v":{"$error":"#REF!"}},{"$f":"O32+P31","v":{"$error":"#REF!"}},{"$error":"#REF!"},{"$error":"#REF!"},{"$error":"#REF!"},{"$error":"#REF!"},{"$error":"#REF!"},{"$error":"#REF!"},{"$error":"#REF!"},{"$error":"#REF!"}]
[null,null,"　　　年間発電量÷12ヶ月（平均） 1月＝75%　2月＝80%　3月＝115%　4月＝120%　5月＝135%　6月＝90%　7月＝110%　8月＝120%　9月＝95%　10月＝110%　11月＝80%　12月＝70%"]
[null,"*弊社（福岡県直方市案件）実績に基づき算出した計算です。"]
[null,"*２",{"$f":"\"売電単価は\" & 入力ｼｰﾄ!D9*(1+入力ｼｰﾄ!D26) & \"円ですが\"&入力ｼｰﾄ!D9*(0+入力ｼｰﾄ!D26) &\"円は消費税ため、\" &入力ｼｰﾄ!D9& \"円での計算になっています。（平成26年4月1日からの暫定法律金額でその後の金額は未定です）\"","v":"売電単価は34.56円ですが2.56円は消費税ため、32円での計算になっています。（平成26年4月1日からの暫定法律金額でその後の金額は未定です）"},null,null,null,null,null,null,null,null,"株式会社 ジャパンゲート"]
[null,"*３ ","CO２削減の係数はグリーンエネルギーCO2削減相当量認証制度の係数を使っています。",null,null,null,null,null,null,null,null,"〒822-0022 福岡県直方市知古771-9"]
[null,"*４","総発電量はパネルの発電保証の年平均0.25%ずつ低下させ計算しています。",null,null,null,null,null,null,null,null,"TEL 0949-28-8545 / FAX 0949-28-8546"]
[null,"注意事項"]
[null,"上記計算において、売電量はパネルのロス率以外に電気設備の抵抗、パネルの方向、傾斜角、外気温によるマイナスが有り、又発電係数も上下するので実際の売電量は上記数値より多少変わります。"]
[null,"上記計算において、年間利益等は固定資産税などの租税、借入が有る時の金利、又会社によっての経理方法で多少変わります。"]
[null,"均等割コストは、法定償却期間が１7年なので17年間で完全償却する計算となります。"]
[null,"現行の優遇　：　固定資産の軽減、100％の一括償却などの税制優遇処置が有り内容は当社担当もしくは管轄の税務署、役所にて確認してください。"]